BEGIN:VCALENDAR
VERSION:2.0
PRODID:-//Angelo&#039;s Pottery Studio - ECPv6.2.5//NONSGML v1.0//EN
CALSCALE:GREGORIAN
METHOD:PUBLISH
X-WR-CALNAME:Angelo&#039;s Pottery Studio
X-ORIGINAL-URL:https://www.gjangelos.com
X-WR-CALDESC:Events for Angelo&#039;s Pottery Studio
REFRESH-INTERVAL;VALUE=DURATION:PT1H
X-Robots-Tag:noindex
X-PUBLISHED-TTL:PT1H
BEGIN:VTIMEZONE
TZID:UTC
BEGIN:STANDARD
TZOFFSETFROM:+0000
TZOFFSETTO:+0000
TZNAME:UTC
DTSTART:20230101T000000
END:STANDARD
END:VTIMEZONE
BEGIN:VEVENT
DTSTART;TZID=UTC:20231003T180000
DTEND;TZID=UTC:20231003T200000
DTSTAMP:20260423T182144
CREATED:20230821T215552Z
LAST-MODIFIED:20230928T011258Z
UID:10000145-1696356000-1696363200@www.gjangelos.com
SUMMARY:Eat and Create with Red Lobster $55
DESCRIPTION:Great food? Halloween themed ceramics projects? What else do you need for a spooky good time? We can’t think of a thing either! Take a break from your work week and bring your friends out to Red Lobster.  We will bring some Halloween themed pottery with us\, along with all of our best Halloween silkscreens! While you paint\, you will enjoy a delicious three course meal — salad\, dinner\, and dessert\, as well as a non-alcoholic beverage\, all included in the price of the event! But the scariest thing about this event is that you might miss out! Reserve your spot today!
URL:https://www.gjangelos.com/event/eat-and-create-with-red-lobster-55/
LOCATION:Red Lobster\, 575 24 1/2 Rd\, Grand Junction\, 81505
CATEGORIES:Off Site Events
ATTACH;FMTTYPE=image/png:https://www.gjangelos.com/wp-content/uploads/2023/08/2.png
ORGANIZER;CN="Angelo's Pottery":MAILTO:angelos@gjangelos.com
END:VEVENT
END:VCALENDAR