BEGIN:VCALENDAR
VERSION:2.0
PRODID:-//Angelo&#039;s Pottery Studio - ECPv6.2.5//NONSGML v1.0//EN
CALSCALE:GREGORIAN
METHOD:PUBLISH
X-ORIGINAL-URL:https://www.gjangelos.com
X-WR-CALDESC:Events for Angelo&#039;s Pottery Studio
REFRESH-INTERVAL;VALUE=DURATION:PT1H
X-Robots-Tag:noindex
X-PUBLISHED-TTL:PT1H
BEGIN:VTIMEZONE
TZID:UTC
BEGIN:STANDARD
TZOFFSETFROM:+0000
TZOFFSETTO:+0000
TZNAME:UTC
DTSTART:20230101T000000
END:STANDARD
END:VTIMEZONE
BEGIN:VEVENT
DTSTART;TZID=UTC:20231006T180000
DTEND;TZID=UTC:20231006T210000
DTSTAMP:20260422T234712
CREATED:20230904T030558Z
LAST-MODIFIED:20230915T001453Z
UID:10000146-1696615200-1696626000@www.gjangelos.com
SUMMARY:Tay Tay All the Way! -- Music Magic at Angelo's
DESCRIPTION:Join us to celebrate the hottest musical artist on the planet right now.  We will have water\, cookies\, a photo op\, friendship bracelets and silk screens that will rock your world. \nIt will be an evening filled with music\, fandom and fun.  Your deposit covers the entrance fee.  Pottery will be charged the evening of the event.  All attendees are expected to paint and play with us as well. All ages\, all fans are welcome.
URL:https://www.gjangelos.com/event/tay-tay-all-the-way-music-magic-at-angelos/
LOCATION:Studio Event\, 2478 Patterson Road\, Grand Junction\, CO\, 81505
CATEGORIES:Studio Celebrations
ATTACH;FMTTYPE=image/jpeg:https://www.gjangelos.com/wp-content/uploads/2023/09/Resized_20230623_1915421.jpg
ORGANIZER;CN="Angelo's Pottery":MAILTO:angelos@gjangelos.com
END:VEVENT
END:VCALENDAR