BEGIN:VCALENDAR
VERSION:2.0
PRODID:-//Angelo&#039;s Pottery Studio - ECPv6.2.5//NONSGML v1.0//EN
CALSCALE:GREGORIAN
METHOD:PUBLISH
X-ORIGINAL-URL:https://www.gjangelos.com
X-WR-CALDESC:Events for Angelo&#039;s Pottery Studio
REFRESH-INTERVAL;VALUE=DURATION:PT1H
X-Robots-Tag:noindex
X-PUBLISHED-TTL:PT1H
BEGIN:VTIMEZONE
TZID:UTC
BEGIN:STANDARD
TZOFFSETFROM:+0000
TZOFFSETTO:+0000
TZNAME:UTC
DTSTART:20230101T000000
END:STANDARD
END:VTIMEZONE
BEGIN:VEVENT
DTSTART;TZID=UTC:20231021T183000
DTEND;TZID=UTC:20231021T203000
DTSTAMP:20260423T030748
CREATED:20230904T204926Z
LAST-MODIFIED:20230920T013307Z
UID:10000148-1697913000-1697920200@www.gjangelos.com
SUMMARY:Gnome of Magical Mischief -- Wines and Designs -- $35
DESCRIPTION:This is a two part experience.  Come in to create this significant clay figure — either male or female — and have some drinks and snacks with us while you do it.  Bring a friend or a loved one — you could even make a pair of them\, magical love gnomes\, if you will.  We will bisque fire them and call you back to paint them before Halloween.  You can come back in at your leisure and finish them off to please your sense of fun. \nYour first beverage of the evening is included with your booking\, and another can be purchased at the event! We are excited to offer a selection of alcoholic beverages! Choose from a variety of local wines\, ice cold beers\, and seltzers! We have something for everyone. If you would rather skip the liquor\, we also have sodas\, coffee\, and water available for you! A snack is also included in your reservation fee\, but feel free to bring in your favorite food to munch on while you paint! \nYour $10 deposit will apply to the cost at the event.
URL:https://www.gjangelos.com/event/gnome-of-magical-mischief-wines-and-designs-35/
LOCATION:Studio Event\, 2478 Patterson Road\, Grand Junction\, CO\, 81505
CATEGORIES:Classes
ATTACH;FMTTYPE=image/jpeg:https://www.gjangelos.com/wp-content/uploads/2023/09/20230904_090916-scaled.jpg
ORGANIZER;CN="Angelo's Pottery":MAILTO:angelos@gjangelos.com
END:VEVENT
END:VCALENDAR