BEGIN:VCALENDAR
VERSION:2.0
PRODID:-//Angelo&#039;s Pottery Studio - ECPv6.2.5//NONSGML v1.0//EN
CALSCALE:GREGORIAN
METHOD:PUBLISH
X-WR-CALNAME:Angelo&#039;s Pottery Studio
X-ORIGINAL-URL:https://www.gjangelos.com
X-WR-CALDESC:Events for Angelo&#039;s Pottery Studio
REFRESH-INTERVAL;VALUE=DURATION:PT1H
X-Robots-Tag:noindex
X-PUBLISHED-TTL:PT1H
BEGIN:VTIMEZONE
TZID:UTC
BEGIN:STANDARD
TZOFFSETFROM:+0000
TZOFFSETTO:+0000
TZNAME:UTC
DTSTART:20230101T000000
END:STANDARD
END:VTIMEZONE
BEGIN:VEVENT
DTSTART;TZID=UTC:20231104T183000
DTEND;TZID=UTC:20231104T210000
DTSTAMP:20260423T044047
CREATED:20230920T203427Z
LAST-MODIFIED:20230921T180435Z
UID:10000235-1699122600-1699131600@www.gjangelos.com
SUMMARY:Pride of the Patch -- Wines & Designs -- $35-$58
DESCRIPTION:Join us for vintage pick up fun!  You can come and paint along to take home this wonderful canvas or you can paint a vintage truck which will go into the kiln to fire.  Better yet\, make it a date night and one of you paint the canvas and the other a truck to match.  Talk about vintage decor!  Wow!  Price will depend on your choice.  Small truck – $35\, canvas $45\, large truck $58.  This or that? \nWe are excited to offer a selection of alcoholic beverages!  Your first beverage of the evening is included with your booking\, and another can be purchased at the event!  Choose from a variety of local wines\, ice cold beers\, and seltzers! We have something for everyone. If you would rather skip the liquor\, we also have sodas\, coffee\, and water available for you! A snack is also included in your reservation fee\, but feel free to bring in your favorite food to munch on while you paint! \n \n 
URL:https://www.gjangelos.com/event/pride-of-the-patch-wines-designs-35-58/
LOCATION:Studio Event\, 2478 Patterson Road\, Grand Junction\, CO\, 81505
CATEGORIES:Classes,This or That Date Night,Wines and Designs
ATTACH;FMTTYPE=image/png:https://www.gjangelos.com/wp-content/uploads/2023/09/Wines-and-Designs.png
ORGANIZER;CN="Angelo's Pottery":MAILTO:angelos@gjangelos.com
END:VEVENT
END:VCALENDAR