BEGIN:VCALENDAR
VERSION:2.0
PRODID:-//Angelo&#039;s Pottery Studio - ECPv6.2.5//NONSGML v1.0//EN
CALSCALE:GREGORIAN
METHOD:PUBLISH
X-WR-CALNAME:Angelo&#039;s Pottery Studio
X-ORIGINAL-URL:https://www.gjangelos.com
X-WR-CALDESC:Events for Angelo&#039;s Pottery Studio
REFRESH-INTERVAL;VALUE=DURATION:PT1H
X-Robots-Tag:noindex
X-PUBLISHED-TTL:PT1H
BEGIN:VTIMEZONE
TZID:UTC
BEGIN:STANDARD
TZOFFSETFROM:+0000
TZOFFSETTO:+0000
TZNAME:UTC
DTSTART:20240101T000000
END:STANDARD
END:VTIMEZONE
BEGIN:VEVENT
DTSTART;TZID=UTC:20240907T183000
DTEND;TZID=UTC:20240907T203000
DTSTAMP:20260421T221141
CREATED:20240710T034833Z
LAST-MODIFIED:20240828T174357Z
UID:10000335-1725733800-1725741000@www.gjangelos.com
SUMMARY:Eye See You -- Wines and Designs -- (Adults' Night Out) -- $45
DESCRIPTION:This little guy is peering at us as we look back at him.  This glowing canvas will delight everyone who sees it at your home.  Choose to put this on a canvas or a Jute Tote carry with you.   Great for a date with your teenaged son or daughter and\, of course\, your best friend.  This is a level 2 canvas.  Anyone can do it!  Come in and relax. \nYour first beverage of the evening is included with your booking\, and another can be purchased at the event! We are excited to offer a selection of alcoholic beverages! Choose from a variety of local wines\, ice cold beers! We have something for everyone. If you would rather skip the liquor\, we also have sodas\, coffee\, and water available for you!  A snack is also included in your reservation fee\, but feel free to bring in your favorite food to munch on while you paint!  Join us for a fun evening of painting. \nDeposit $10 to reserve your spot — applied to the event.  Tickets are not transferable.  Deposit is not refundable but can be applied to another event. \n  \n 
URL:https://www.gjangelos.com/event/eye-see-you-wines-and-designs-adults-night-out-45/
LOCATION:Studio Event\, 2478 Patterson Road\, Grand Junction\, CO\, 81505
CATEGORIES:Classes,This or That Date Night
ATTACH;FMTTYPE=image/jpeg:https://www.gjangelos.com/wp-content/uploads/2024/07/Eye-See-You-Reference-Image.jpg
ORGANIZER;CN="Angelo's Pottery":MAILTO:angelos@gjangelos.com
END:VEVENT
END:VCALENDAR