BEGIN:VCALENDAR
VERSION:2.0
PRODID:-//Angelo&#039;s Pottery Studio - ECPv6.2.5//NONSGML v1.0//EN
CALSCALE:GREGORIAN
METHOD:PUBLISH
X-WR-CALNAME:Angelo&#039;s Pottery Studio
X-ORIGINAL-URL:https://www.gjangelos.com
X-WR-CALDESC:Events for Angelo&#039;s Pottery Studio
REFRESH-INTERVAL;VALUE=DURATION:PT1H
X-Robots-Tag:noindex
X-PUBLISHED-TTL:PT1H
BEGIN:VTIMEZONE
TZID:UTC
BEGIN:STANDARD
TZOFFSETFROM:+0000
TZOFFSETTO:+0000
TZNAME:UTC
DTSTART:20240101T000000
END:STANDARD
END:VTIMEZONE
BEGIN:VEVENT
DTSTART;TZID=UTC:20241011T180000
DTEND;TZID=UTC:20241011T200000
DTSTAMP:20260422T030109
CREATED:20240824T174503Z
LAST-MODIFIED:20241010T161800Z
UID:10000348-1728669600-1728676800@www.gjangelos.com
SUMMARY:Bats in Your Belfry -- Wines and Designs $45 -- $12 Deposit
DESCRIPTION:Join us in creating a multimedia haunted house masterpiece! We will be painting this spooky house canvas and adding resin and bats that seem to be flying right off the canvas!  This class experience will last approximately two hours. \nWe are excited to offer a selection of alcoholic beverages!  Your first beverage of the evening is included with your booking\, and another can be purchased at the event!  Choose from a variety of local wines\, ice cold beers\, ciders\, and seltzers! We have something for everyone. If you would rather skip the liquor\, we also have sodas\, coffee\, and water available for you! A snack is also included in your reservation fee\, but feel free to bring in your favorite food to munch on while you paint! We ID everyone for alcohol. Please be sure to bring your government issued ID! If two of you are working on a single canvas\, only one is afforded a free drink. \nWe will be playing with canvas\, acrylic paints\, vinyl\, paper\, and resin. Resin and acrylic paint is permanent and messy! Please be sure to wear clothes that you can get creative in.  DO NOT BUY FROM SOCIAL MEDIA!  These tickets are non refundable and non transferable. Call the studio with any inquiries.  Don’t get scammed. \n \n 
URL:https://www.gjangelos.com/event/bats-in-you-belfry-wines-and-designs-12-deposit/
LOCATION:Studio Event\, 2478 Patterson Road\, Grand Junction\, CO\, 81505
CATEGORIES:Classes,Studio Celebrations
ATTACH;FMTTYPE=image/jpeg:https://www.gjangelos.com/wp-content/uploads/2024/08/Resized_20240824_105741_1724521123049.jpg
ORGANIZER;CN="Angelo's Pottery":MAILTO:angelos@gjangelos.com
END:VEVENT
END:VCALENDAR