BEGIN:VCALENDAR
VERSION:2.0
PRODID:-//Angelo&#039;s Pottery Studio - ECPv6.2.5//NONSGML v1.0//EN
CALSCALE:GREGORIAN
METHOD:PUBLISH
X-WR-CALNAME:Angelo&#039;s Pottery Studio
X-ORIGINAL-URL:https://www.gjangelos.com
X-WR-CALDESC:Events for Angelo&#039;s Pottery Studio
REFRESH-INTERVAL;VALUE=DURATION:PT1H
X-Robots-Tag:noindex
X-PUBLISHED-TTL:PT1H
BEGIN:VTIMEZONE
TZID:UTC
BEGIN:STANDARD
TZOFFSETFROM:+0000
TZOFFSETTO:+0000
TZNAME:UTC
DTSTART:20240101T000000
END:STANDARD
END:VTIMEZONE
BEGIN:VEVENT
DTSTART;TZID=UTC:20241119T170000
DTEND;TZID=UTC:20241119T190000
DTSTAMP:20260422T203248
CREATED:20240918T143257Z
LAST-MODIFIED:20240918T152103Z
UID:10000355-1732035600-1732042800@www.gjangelos.com
SUMMARY:Broadway Elementary -- Family Ornament Paint Event
DESCRIPTION:We are celebrating family and school community tonight at Broadway Elementary.  This event is held at the school cafeteria.  Students\, teachers\, administrators and their families are gathering to paint holiday ornaments  or cocoa mugs.  We will take them to the studio and fire them and return them to the school for distribution next week.  This event is a fundraiser for the school Parent Teacher group and will help support student-based programs. \n \n 
URL:https://www.gjangelos.com/event/broadway-elementary-family-ornament-paint-event/
LOCATION:Broadway Elementary\, 2248 Broadway\, Grand Junction\, CO\, 81507
CATEGORIES:Off Site Events
ATTACH;FMTTYPE=image/jpeg:https://www.gjangelos.com/wp-content/uploads/2024/09/Tree-for-stickers.jpg
ORGANIZER;CN="Angelo's Pottery":MAILTO:angelos@gjangelos.com
END:VEVENT
END:VCALENDAR