BEGIN:VCALENDAR
VERSION:2.0
PRODID:-//Angelo&#039;s Pottery Studio - ECPv6.2.5//NONSGML v1.0//EN
CALSCALE:GREGORIAN
METHOD:PUBLISH
X-ORIGINAL-URL:https://www.gjangelos.com
X-WR-CALDESC:Events for Angelo&#039;s Pottery Studio
REFRESH-INTERVAL;VALUE=DURATION:PT1H
X-Robots-Tag:noindex
X-PUBLISHED-TTL:PT1H
BEGIN:VTIMEZONE
TZID:UTC
BEGIN:STANDARD
TZOFFSETFROM:+0000
TZOFFSETTO:+0000
TZNAME:UTC
DTSTART:20240101T000000
END:STANDARD
END:VTIMEZONE
BEGIN:VEVENT
DTSTART;TZID=UTC:20241121T170000
DTEND;TZID=UTC:20241121T190000
DTSTAMP:20260422T134035
CREATED:20240918T143554Z
LAST-MODIFIED:20240918T151427Z
UID:10000356-1732208400-1732215600@www.gjangelos.com
SUMMARY:Wingate Elementary -- Family Ornament Paint Event
DESCRIPTION:We are celebrating family and school community tonight at Wingate Elementary.  This event is held at the school cafeteria.  Students\, teachers\, administrators and their families are gathering to paint holiday ornaments.  We will take them to the studio and fire them and return them to the school for distribution next week.  This event is a fundraiser for the school Parent Teacher group and will help support student-based programs. \n \n 
URL:https://www.gjangelos.com/event/wingate-elementary-family-ornament-paint-event/
LOCATION:Wingate Elementary\, 351 S Camp Rd\, Grand Junction\, CO\, 81507
CATEGORIES:Off Site Events
ATTACH;FMTTYPE=image/jpeg:https://www.gjangelos.com/wp-content/uploads/2024/09/bite-me-gingerbread-ornament.jpg
ORGANIZER;CN="Angelo's Pottery":MAILTO:angelos@gjangelos.com
END:VEVENT
END:VCALENDAR