BEGIN:VCALENDAR
VERSION:2.0
PRODID:-//Angelo&#039;s Pottery Studio - ECPv6.2.5//NONSGML v1.0//EN
CALSCALE:GREGORIAN
METHOD:PUBLISH
X-ORIGINAL-URL:https://www.gjangelos.com
X-WR-CALDESC:Events for Angelo&#039;s Pottery Studio
REFRESH-INTERVAL;VALUE=DURATION:PT1H
X-Robots-Tag:noindex
X-PUBLISHED-TTL:PT1H
BEGIN:VTIMEZONE
TZID:UTC
BEGIN:STANDARD
TZOFFSETFROM:+0000
TZOFFSETTO:+0000
TZNAME:UTC
DTSTART:20240101T000000
END:STANDARD
END:VTIMEZONE
BEGIN:VEVENT
DTSTART;VALUE=DATE:20241128
DTEND;VALUE=DATE:20241129
DTSTAMP:20260423T231745
CREATED:20241126T151157Z
LAST-MODIFIED:20241126T151457Z
UID:10000392-1732752000-1732838399@www.gjangelos.com
SUMMARY:Closed for Thanksgiving
DESCRIPTION:We will be closed for this holiday to spend time with our families and friends.  We are thankful for our fantastic customers.
URL:https://www.gjangelos.com/event/closed-for-thanksgiving/
LOCATION:Studio Event\, 2478 Patterson Road\, Grand Junction\, CO\, 81505
ATTACH;FMTTYPE=image/jpeg:https://www.gjangelos.com/wp-content/uploads/2024/11/thanksgiving-cornucopia.jpg
ORGANIZER;CN="Angelo's Pottery":MAILTO:angelos@gjangelos.com
END:VEVENT
END:VCALENDAR