BEGIN:VCALENDAR
VERSION:2.0
PRODID:-//Angelo&#039;s Pottery Studio - ECPv6.2.5//NONSGML v1.0//EN
CALSCALE:GREGORIAN
METHOD:PUBLISH
X-ORIGINAL-URL:https://www.gjangelos.com
X-WR-CALDESC:Events for Angelo&#039;s Pottery Studio
REFRESH-INTERVAL;VALUE=DURATION:PT1H
X-Robots-Tag:noindex
X-PUBLISHED-TTL:PT1H
BEGIN:VTIMEZONE
TZID:UTC
BEGIN:STANDARD
TZOFFSETFROM:+0000
TZOFFSETTO:+0000
TZNAME:UTC
DTSTART:20240101T000000
END:STANDARD
END:VTIMEZONE
BEGIN:VEVENT
DTSTART;TZID=UTC:20241203T170000
DTEND;TZID=UTC:20241203T190000
DTSTAMP:20260423T072702
CREATED:20240918T152454Z
LAST-MODIFIED:20240918T152454Z
UID:10000357-1733245200-1733252400@www.gjangelos.com
SUMMARY:Rim Rock Elementary -- Family Ornament Paint Event
DESCRIPTION:We are celebrating family and school community tonight at Rim Rock Elementary.  This event is held at the school cafeteria.  Students\, teachers\, administrators and their families are gathering to paint holiday ornaments.  We will take them to the studio and fire them and return them to the school for distribution next week.  This event is a fundraiser for the school Parent Teacher group and will help support student-based programs. \n   \n 
URL:https://www.gjangelos.com/event/rim-rock-elementary-family-ornament-paint-event/
LOCATION:Rim Rock Elementary\, 1810 J 6/10 Rd\, Fruita\, CO\, 81521\, United States
CATEGORIES:Off Site Events
ATTACH;FMTTYPE=image/jpeg:https://www.gjangelos.com/wp-content/uploads/2024/09/wreath-ornament.jpg
ORGANIZER;CN="Angelo's Pottery":MAILTO:angelos@gjangelos.com
END:VEVENT
END:VCALENDAR