BEGIN:VCALENDAR
VERSION:2.0
PRODID:-//Angelo&#039;s Pottery Studio - ECPv6.2.5//NONSGML v1.0//EN
CALSCALE:GREGORIAN
METHOD:PUBLISH
X-WR-CALNAME:Angelo&#039;s Pottery Studio
X-ORIGINAL-URL:https://www.gjangelos.com
X-WR-CALDESC:Events for Angelo&#039;s Pottery Studio
REFRESH-INTERVAL;VALUE=DURATION:PT1H
X-Robots-Tag:noindex
X-PUBLISHED-TTL:PT1H
BEGIN:VTIMEZONE
TZID:UTC
BEGIN:STANDARD
TZOFFSETFROM:+0000
TZOFFSETTO:+0000
TZNAME:UTC
DTSTART:20240101T000000
END:STANDARD
END:VTIMEZONE
BEGIN:VEVENT
DTSTART;VALUE=DATE:20241225
DTEND;VALUE=DATE:20241226
DTSTAMP:20260424T151800
CREATED:20241126T151617Z
LAST-MODIFIED:20241126T151617Z
UID:10000393-1735084800-1735171199@www.gjangelos.com
SUMMARY:Closed for Christmas
DESCRIPTION:We will be closed for this holiday to spend time with our families and friends.  Our fantastic customers are our greatest gift.
URL:https://www.gjangelos.com/event/closed-for-christmas/
LOCATION:Studio Event\, 2478 Patterson Road\, Grand Junction\, CO\, 81505
ATTACH;FMTTYPE=image/jpeg:https://www.gjangelos.com/wp-content/uploads/2024/11/Gnome-in-Wreath.jpg
ORGANIZER;CN="Angelo's Pottery":MAILTO:angelos@gjangelos.com
END:VEVENT
END:VCALENDAR