BEGIN:VCALENDAR
VERSION:2.0
PRODID:-//Angelo&#039;s Pottery Studio - ECPv6.2.5//NONSGML v1.0//EN
CALSCALE:GREGORIAN
METHOD:PUBLISH
X-WR-CALNAME:Angelo&#039;s Pottery Studio
X-ORIGINAL-URL:https://www.gjangelos.com
X-WR-CALDESC:Events for Angelo&#039;s Pottery Studio
REFRESH-INTERVAL;VALUE=DURATION:PT1H
X-Robots-Tag:noindex
X-PUBLISHED-TTL:PT1H
BEGIN:VTIMEZONE
TZID:UTC
BEGIN:STANDARD
TZOFFSETFROM:+0000
TZOFFSETTO:+0000
TZNAME:UTC
DTSTART:20250101T000000
END:STANDARD
END:VTIMEZONE
BEGIN:VEVENT
DTSTART;TZID=UTC:20250618T120000
DTEND;TZID=UTC:20250618T160000
DTSTAMP:20260420T030532
CREATED:20250317T155913Z
LAST-MODIFIED:20250605T150834Z
UID:10000439-1750248000-1750262400@www.gjangelos.com
SUMMARY:Gamer's Week: Minecraft -- Kids Summer Camp Day 2 -- $60
DESCRIPTION:Get your kids off the screens and into real-life creative mode this summer! Our Gamers’ Art Camp is perfect for young artists who love Minecraft\, Mario\, and all things gaming. Each day\, campers will craft projects inspired by their favorite pixelated and power-up-filled worlds. \nWednesday’s projects will include 3-d swords or pickaxes made from wooden blocks and this pixelated pig bowl! Each week will feature multiple artistic mediums like bisque pottery\, clay\, and acrylic on wood or canvas. Whether they’re building their creativity block by block or powering up their artistic skills\, this camp is the ultimate level-up for young gamers! \nEach day of camp will include at least two projects\, Deposits are transferable to other camps\, but they are not refundable. The remainder of the charge will be collected on the day of the camp\, and our camps are taxed because they are product based. Sign up your child for a full week of camps for a total cost of $160 (a $20 discount!) A deposit of 15 dollars will be paid now\, and the rest of the balance will be due on the day of camp.  Any discounts will be applied in the studio on that day. \nIf you have difficulty booking this camp\, please contact the studio directly. Do not buy tickets from anyone on the internet. Beware of internet scams. \n 
URL:https://www.gjangelos.com/event/gamers-week-minecraft-kids-summer-camp-day-2-60/
LOCATION:Studio Event\, 2478 Patterson Road\, Grand Junction\, CO\, 81505
CATEGORIES:Kids Camps
ATTACH;FMTTYPE=image/png:https://www.gjangelos.com/wp-content/uploads/2025/03/Summer-Camp-2025-Social-Media-Post-17.png
ORGANIZER;CN="Angelo's Pottery":MAILTO:angelos@gjangelos.com
END:VEVENT
BEGIN:VEVENT
DTSTART;TZID=UTC:20250618T180000
DTEND;TZID=UTC:20250618T200000
DTSTAMP:20260420T030532
CREATED:20250429T040143Z
LAST-MODIFIED:20250429T040247Z
UID:10000466-1750269600-1750276800@www.gjangelos.com
SUMMARY:Plant One on Me! @Highlands Distillery ($12 deposit)
DESCRIPTION:Get ready for a night full of creativity\, cocktails\, and a little lavender magic at Highlands Distillery! \nWe’re bringing the pottery party to the distillery—paint your own ceramic planter while sipping on one of Highlands’ signature drinks. After your masterpiece is fired and ready\, we’ll provide you with a fresh lavender plant to put in the planter—because everything’s better with a little greenery (and a great cocktail). \nThe fresh lavender and your first cocktail are both included in the event fee! You will pay for your planter the night of the event. We are bringing a wide variety of planters so you can control the cost. Highlands Distillery also offers delicious sandwiches\, pizza\, and charcuterie boards if you would like to eat while you paint! \nGrab your friends\, your favorite drinking shoes\, and your inner artist—this is one night you won’t want to miss. \nSpots are limited—sign up today and let’s get our hands (a little) dirty! 🌱🍸
URL:https://www.gjangelos.com/event/plant-one-on-me-highlands-distillery-12-deposit/
LOCATION:Highlands Distillery\, 782 24 Rd\, Grand Junction\, 81505\, United States
CATEGORIES:Art Distilled
ATTACH;FMTTYPE=image/jpeg:https://www.gjangelos.com/wp-content/uploads/2025/04/489958071_1320190683070491_2847919530357988334_n-e1745898970120.jpg
ORGANIZER;CN="Angelo's Pottery":MAILTO:angelos@gjangelos.com
END:VEVENT
END:VCALENDAR