BEGIN:VCALENDAR
VERSION:2.0
PRODID:-//Angelo&#039;s Pottery Studio - ECPv6.2.5//NONSGML v1.0//EN
CALSCALE:GREGORIAN
METHOD:PUBLISH
X-ORIGINAL-URL:https://www.gjangelos.com
X-WR-CALDESC:Events for Angelo&#039;s Pottery Studio
REFRESH-INTERVAL;VALUE=DURATION:PT1H
X-Robots-Tag:noindex
X-PUBLISHED-TTL:PT1H
BEGIN:VTIMEZONE
TZID:UTC
BEGIN:STANDARD
TZOFFSETFROM:+0000
TZOFFSETTO:+0000
TZNAME:UTC
DTSTART:20250101T000000
END:STANDARD
END:VTIMEZONE
BEGIN:VEVENT
DTSTART;VALUE=DATE:20250625
DTEND;VALUE=DATE:20250630
DTSTAMP:20260420T013345
CREATED:20250625T164404Z
LAST-MODIFIED:20250625T164536Z
UID:10000487-1750809600-1751241599@www.gjangelos.com
SUMMARY:Fireworks Handprint Canvas -- Take Home Kit - $20
DESCRIPTION:Our Story Time with this activity has sold out\, but I’m putting together to go kits! \nHere’s what the kit includes: \n\nAn 8×10 flat canvas with the vinyl fireworks sticker already pressed on.\nPaint in the colors of your choice\, glitter\, and a paint brush.\nStep-by-step instructions to recreate this adorable keepsake.\n\nPlace the order online\, and we will text or call you when it is ready to pick-up! Orders will be ready to pick up as early as Saturday\, June 28th. \n  \n 
URL:https://www.gjangelos.com/event/fireworks-handprint-canvas-take-home-kit-20/
LOCATION:Studio Event\, 2478 Patterson Road\, Grand Junction\, CO\, 81505
CATEGORIES:Kids Camps
ATTACH;FMTTYPE=image/jpeg:https://www.gjangelos.com/wp-content/uploads/2025/06/6588e79c-057e-40a6-9561-65cdc58f8b1a.jpg
ORGANIZER;CN="Angelo's Pottery":MAILTO:angelos@gjangelos.com
END:VEVENT
BEGIN:VEVENT
DTSTART;TZID=UTC:20250625T120000
DTEND;TZID=UTC:20250625T160000
DTSTAMP:20260420T013345
CREATED:20250317T161830Z
LAST-MODIFIED:20250622T235059Z
UID:10000442-1750852800-1750867200@www.gjangelos.com
SUMMARY:The Mystical and the Magical: Fantastic Creatures -- Kids Summer Camp Day 2 -- $60
DESCRIPTION:This summer\, get your kids off the screen\, and let their creativity take flight on a magical adventure! This week\, young artists will explore the world of wizards\, mythical creatures\, and fairy tale kingdoms through hands-on art projects that spark the imagination. \nSpecific projects will be announced closer to camp\, but each week will feature multiple artistic mediums like bisque pottery\, clay\, and acrylic on wood or canvas to create their own spellbinding masterpieces. If your child dreams of casting creative spells\, taming fantastical creatures\, and exploring the art of magic\, this is the camp for them! \nEach day of camp will include at least two projects\, Deposits are transferable to other camps\, but they are not refundable. The remainder of the charge will be collected on the day of the camp\, and our camps are taxed because they are product based. Sign up your child for a full week of camps for a total cost of $160 (a $20 discount!) A deposit of 15 dollars will be paid now\, and the rest of the balance will be due on the day of camp.  Any discounts will be applied in the studio on that day. \nIf you have difficulty booking this camp\, please contact the studio directly. Do not buy tickets from anyone on the internet. Beware of internet scams. \n 
URL:https://www.gjangelos.com/event/the-mystical-and-the-magical-fantastic-creatures-kids-summer-camp-day-2-60/
LOCATION:Studio Event\, 2478 Patterson Road\, Grand Junction\, CO\, 81505
CATEGORIES:Kids Camps
ATTACH;FMTTYPE=image/png:https://www.gjangelos.com/wp-content/uploads/2025/03/Summer-Camp-2025-Social-Media-Post-6.png
ORGANIZER;CN="Angelo's Pottery":MAILTO:angelos@gjangelos.com
END:VEVENT
BEGIN:VEVENT
DTSTART;TZID=UTC:20250625T180000
DTEND;TZID=UTC:20250625T200000
DTSTAMP:20260420T013345
CREATED:20250530T152931Z
LAST-MODIFIED:20250530T152931Z
UID:10000473-1750874400-1750881600@www.gjangelos.com
SUMMARY:Plant One on Me! @Highlands Distillery ($12 deposit)
DESCRIPTION:Get ready for a night full of creativity\, cocktails\, and a little lavender magic at Highlands Distillery!  We added a second time at your request. \nWe’re bringing the pottery party to the distillery—paint your own ceramic planter while sipping on one of Highlands’ signature drinks. After your masterpiece is fired and ready\, we’ll provide you with a fresh lavender plant to put in the planter—because everything’s better with a little greenery (and a great cocktail). \nThe fresh lavender and your first cocktail are both included in the event fee! You will pay for your planter the night of the event. We are bringing a wide variety of planters so you can control the cost. Highlands Distillery also offers delicious sandwiches\, pizza\, and charcuterie boards if you would like to eat while you paint! \nGrab your friends\, your favorite drinking shoes\, and your inner artist—this is one night you won’t want to miss. \nSpots are limited—sign up today and let’s get our hands (a little) dirty! 🌱🍸
URL:https://www.gjangelos.com/event/plant-one-on-me-highlands-distillery-12-deposit-2/
LOCATION:Highlands Distillery\, 782 24 Rd\, Grand Junction\, 81505\, United States
CATEGORIES:Art Distilled
ATTACH;FMTTYPE=image/jpeg:https://www.gjangelos.com/wp-content/uploads/2025/04/489958071_1320190683070491_2847919530357988334_n-e1745898970120.jpg
ORGANIZER;CN="Angelo's Pottery":MAILTO:angelos@gjangelos.com
END:VEVENT
END:VCALENDAR