BEGIN:VCALENDAR
VERSION:2.0
PRODID:-//Angelo&#039;s Pottery Studio - ECPv6.2.5//NONSGML v1.0//EN
CALSCALE:GREGORIAN
METHOD:PUBLISH
X-WR-CALNAME:Angelo&#039;s Pottery Studio
X-ORIGINAL-URL:https://www.gjangelos.com
X-WR-CALDESC:Events for Angelo&#039;s Pottery Studio
REFRESH-INTERVAL;VALUE=DURATION:PT1H
X-Robots-Tag:noindex
X-PUBLISHED-TTL:PT1H
BEGIN:VTIMEZONE
TZID:UTC
BEGIN:STANDARD
TZOFFSETFROM:+0000
TZOFFSETTO:+0000
TZNAME:UTC
DTSTART:20260101T000000
END:STANDARD
END:VTIMEZONE
BEGIN:VEVENT
DTSTART;TZID=UTC:20260423T180000
DTEND;TZID=UTC:20260423T193000
DTSTAMP:20260423T033014
CREATED:20260312T034852Z
LAST-MODIFIED:20260402T023402Z
UID:10000567-1776967200-1776972600@www.gjangelos.com
SUMMARY:Plot Twists and Pottery (April Book Club) $7-20 Total Cost
DESCRIPTION:Join us for our April Session of our Pottery Studio Book Club! Each month\, we’ll gather to talk books\, do a fun craft\, and connect. \nThis month’s suggested read: Assistant to the Villain \nAfter we get settled into the month’s craft\, we will split up and those of us who have read the suggested book will discuss that. Everyone else will discuss books they have read recently and loved (it can be one you’re currently reading or something you finished earlier this year). We’ll each share what’s been lighting up our bookshelves\, sip a glass of wine\, and make something beautiful together. You can reserve a ticket for the month’s craft\, prepared for you to enjoy while we talk books\, or you can just reserve a ticket for the event that includes a drink (wine\, beer\, seltzers\, ciders\, or non-alcoholic). \nThis month’s craft: “Forever Plants”We have all the materials to create your own “forever plant” while we talk about what we are reading! All of your supplies are included! \nThis event fee is not refundable and not transferable.  Please do not buy one from strangers on social media.
URL:https://www.gjangelos.com/event/plot-twists-and-pottery-april-book-club-7-20-total-cost/
LOCATION:Studio Event\, 2478 Patterson Road\, Grand Junction\, CO\, 81505
CATEGORIES:Wines and Designs
ATTACH;FMTTYPE=image/jpeg:https://www.gjangelos.com/wp-content/uploads/2026/03/dcd4336b-8fa9-4136-9b96-484748cce4d4-1.jpg
ORGANIZER;CN="Angelo's Pottery":MAILTO:angelos@gjangelos.com
END:VEVENT
END:VCALENDAR