BEGIN:VCALENDAR
VERSION:2.0
PRODID:-//Angelo&#039;s Pottery Studio - ECPv6.2.5//NONSGML v1.0//EN
CALSCALE:GREGORIAN
METHOD:PUBLISH
X-ORIGINAL-URL:https://www.gjangelos.com
X-WR-CALDESC:Events for Angelo&#039;s Pottery Studio
REFRESH-INTERVAL;VALUE=DURATION:PT1H
X-Robots-Tag:noindex
X-PUBLISHED-TTL:PT1H
BEGIN:VTIMEZONE
TZID:UTC
BEGIN:STANDARD
TZOFFSETFROM:+0000
TZOFFSETTO:+0000
TZNAME:UTC
DTSTART:20260101T000000
END:STANDARD
END:VTIMEZONE
BEGIN:VEVENT
DTSTART;TZID=UTC:20260603T100000
DTEND;TZID=UTC:20260603T143000
DTSTAMP:20260422T222827
CREATED:20260420T044825Z
LAST-MODIFIED:20260422T035751Z
UID:10000575-1780480800-1780497000@www.gjangelos.com
SUMMARY:Summer Camp Grades 1-5: Super Mario and Friends! ($15 deposit)
DESCRIPTION:Sign your elementary school student up for a half day! of camp\, or a full day of camp for a $5 discount! If you sign up for a full day\, please send a lunch with your kiddo to eat between classes!  Each session costs $40 or attend both for $75. \nWe have the following activities planned: \n10 AM to Noon Session: Choose Your Favorite Character for Painted ceramic tiles and a faux stained-glass project \n12:20 to 2:30: Super Mario Star Sculpture and Super Mario Canvas \nIf you have difficulty booking this camp\, please contact the studio directly. Do not buy tickets from strangers on the internet. Beware of internet scams. \nWe do have a minimum number of sign ups needed to be able to hold each of our camps. If the minimum number is not reached for this camp\, we will notify you and ask if you are interested in moving your registration to another camp. If not\, we will refund your money!
URL:https://www.gjangelos.com/event/summer-camp-grades-1-5-super-mario-and-friends-15-deposit/
LOCATION:Studio Event\, 2478 Patterson Road\, Grand Junction\, CO\, 81505
CATEGORIES:Kids Camps
ORGANIZER;CN="Angelo's Pottery":MAILTO:angelos@gjangelos.com
END:VEVENT
BEGIN:VEVENT
DTSTART;TZID=UTC:20260604T100000
DTEND;TZID=UTC:20260604T113000
DTSTAMP:20260422T222827
CREATED:20260421T043503Z
LAST-MODIFIED:20260422T035638Z
UID:10000579-1780567200-1780572600@www.gjangelos.com
SUMMARY:Summer Camp Ages 4-6: All About Cats! $30 ($15 deposit)
DESCRIPTION:Don’t miss out on our first ever camp for Pre-k and Kindergarten!  Grown ups can drop off or stay with their kiddos during this hour and a half long art class. This week’s projects include a Cat Color Wheel with pastel & an air foam clay cat face. Camp includes the project and a snack! \nIf you have difficulty booking this camp\, please contact the studio directly. Do not buy tickets from strangers on the internet. Beware of internet scams. \nWe do have a minimum number of sign ups needed to be able to hold each of our camps. If the minimum number is not reached for this camp\, we will notify you and ask if you are interested in moving your registration to another camp. If not\, we will refund your money!
URL:https://www.gjangelos.com/event/summer-camp-ages-4-6-all-about-cats-30-15-deposit/
LOCATION:Studio Event\, 2478 Patterson Road\, Grand Junction\, CO\, 81505
CATEGORIES:Kids Camps
ORGANIZER;CN="Angelo's Pottery":MAILTO:angelos@gjangelos.com
END:VEVENT
BEGIN:VEVENT
DTSTART;TZID=UTC:20260604T130000
DTEND;TZID=UTC:20260604T150000
DTSTAMP:20260422T222827
CREATED:20260422T032539Z
LAST-MODIFIED:20260422T035543Z
UID:10000581-1780578000-1780585200@www.gjangelos.com
SUMMARY:Summer Camp Grades 6-9: Playing with Perspective $50 ($15 deposit)
DESCRIPTION:Our Art Camp sessions for older kids are designed to build skills in a hands-on\, engaging environment. With extended class time\, campers will have the opportunity to experiment\, explore new techniques\, and develop their artistic abilities with confidence. \nThis week’s class will be our fun take on still life\, which is an essential artistic skill. Kids will bring in some objects that they want to play with\, and they will magnify\, shrink\, or distort them\, both in a pen and pencil drawing and on gold and silver scratch paper. \nA snack and a drink are included in the camp! \nIf you have difficulty booking this camp\, please contact the studio directly. Do not buy tickets from strangers on the internet. Beware of internet scams. \nWe do have a minimum number of sign ups needed to be able to hold each of our camps. If the minimum number is not reached for this camp\, we will notify you and ask if you are interested in moving your registration to another camp. If not\, we will refund your money!
URL:https://www.gjangelos.com/event/summer-camp-grades-6-9-playing-with-perspective-50-15-deposit/
LOCATION:Studio Event\, 2478 Patterson Road\, Grand Junction\, CO\, 81505
CATEGORIES:Kids Camps
ORGANIZER;CN="Angelo's Pottery":MAILTO:angelos@gjangelos.com
END:VEVENT
BEGIN:VEVENT
DTSTART;TZID=UTC:20260610T100000
DTEND;TZID=UTC:20260610T143000
DTSTAMP:20260422T222827
CREATED:20260421T035304Z
LAST-MODIFIED:20260422T035423Z
UID:10000576-1781085600-1781101800@www.gjangelos.com
SUMMARY:Summer Camp Grades 1-5: Pokémon and Dragon Ball Z ($15 deposit)
DESCRIPTION:Sign your elementary school student up for a half day! of camp\, or a full day of camp for a $5 discount! If you sign up for a full day\, please send a lunch with your kiddo to eat between classes!  Each session costs $40 or attend both for $75. \nWe have the following activities planned: \n10 AM to Noon Session: Air foam character creation and paint your characters on ceramic tiles \n12:20 to 2:30: Paint your favorite character on canvas\, plus an additional project! \nIf you have difficulty booking this camp\, please contact the studio directly. Do not buy tickets from strangers on the internet. Beware of internet scams. \nWe do have a minimum number of sign ups needed to be able to hold each of our camps. If the minimum number is not reached for this camp\, we will notify you and ask if you are interested in moving your registration to another camp. If not\, we will refund your money!
URL:https://www.gjangelos.com/event/summer-camp-grades-1-5-pokemon-and-dragon-ball-z-15-deposit/
LOCATION:Studio Event\, 2478 Patterson Road\, Grand Junction\, CO\, 81505
CATEGORIES:Kids Camps
ORGANIZER;CN="Angelo's Pottery":MAILTO:angelos@gjangelos.com
END:VEVENT
BEGIN:VEVENT
DTSTART;TZID=UTC:20260611T100000
DTEND;TZID=UTC:20260611T113000
DTSTAMP:20260422T222827
CREATED:20260422T030554Z
LAST-MODIFIED:20260422T035308Z
UID:10000580-1781172000-1781177400@www.gjangelos.com
SUMMARY:Summer Camp Ages 4-6: Bluey Camp $30 ($15 deposit)
DESCRIPTION:Don’t miss out on our first ever camp for Pre-k and Kindergarten!  Grown ups can drop off or stay with their kiddos during this hour and a half long art class. \nThis week includes several different Bluey themed art projects. Camp includes the project and a snack! \nIf you have difficulty booking this camp\, please contact the studio directly. Do not buy tickets from strangers on the internet. Beware of internet scams. \nWe do have a minimum number of sign ups needed to be able to hold each of our camps. If the minimum number is not reached for this camp\, we will notify you and ask if you are interested in moving your registration to another camp. If not\, we will refund your money!
URL:https://www.gjangelos.com/event/summer-camp-ages-4-6-bluey-30-15-deposit/
LOCATION:Studio Event\, 2478 Patterson Road\, Grand Junction\, CO\, 81505
CATEGORIES:Kids Camps
ORGANIZER;CN="Angelo's Pottery":MAILTO:angelos@gjangelos.com
END:VEVENT
BEGIN:VEVENT
DTSTART;TZID=UTC:20260611T130000
DTEND;TZID=UTC:20260611T150000
DTSTAMP:20260422T222827
CREATED:20260422T035018Z
LAST-MODIFIED:20260422T035018Z
UID:10000582-1781182800-1781190000@www.gjangelos.com
SUMMARY:Summer Camp Grades 6-9: Anime and Studio Ghibli $50 ($15 deposit)
DESCRIPTION:Our Art Camp sessions for older kids are designed to build skills in a hands-on\, engaging environment. With extended class time\, campers will have the opportunity to experiment\, explore new techniques\, and develop their artistic abilities with confidence. \nThis week is a celebration of Anime\, including the popular Studio Ghibli. It will include at least two projects\, including a faux stained glass project and a muti-media collage. \nA snack and a drink are included in the camp! \nIf you have difficulty booking this camp\, please contact the studio directly. Do not buy tickets from strangers on the internet. Beware of internet scams. \nWe do have a minimum number of sign ups needed to be able to hold each of our camps. If the minimum number is not reached for this camp\, we will notify you and ask if you are interested in moving your registration to another camp. If not\, we will refund your money!
URL:https://www.gjangelos.com/event/summer-camp-grades-6-9-anime-and-studio-ghibli-50-15-deposit/
LOCATION:Studio Event\, 2478 Patterson Road\, Grand Junction\, CO\, 81505
CATEGORIES:Kids Camps
ORGANIZER;CN="Angelo's Pottery":MAILTO:angelos@gjangelos.com
END:VEVENT
BEGIN:VEVENT
DTSTART;TZID=UTC:20260617T100000
DTEND;TZID=UTC:20260617T143000
DTSTAMP:20260422T222827
CREATED:20260421T041317Z
LAST-MODIFIED:20260422T035213Z
UID:10000577-1781690400-1781706600@www.gjangelos.com
SUMMARY:Summer Camp Grades 1-5: Pool Party ($15 deposit)
DESCRIPTION:Sign your elementary school student up for a half day! of camp\, or a full day of camp for a $5 discount! If you sign up for a full day\, please send a lunch with your kiddo to eat between classes!  Each session costs $40 or attend both for $75. \nWe have the following activities planned: \n10 AM to Noon Session: Marker on paper drawing and a multimedia shadow box \n12:20 to 2:30: ceramic piece and acrylic piece \nIf you have difficulty booking this camp\, please contact the studio directly. Do not buy tickets from strangers on the internet. Beware of internet scams. \nWe do have a minimum number of sign ups needed to be able to hold each of our camps. If the minimum number is not reached for this camp\, we will notify you and ask if you are interested in moving your registration to another camp. If not\, we will refund your money!
URL:https://www.gjangelos.com/event/summer-camp-grades-1-5-pool-party-15-deposit/
LOCATION:Studio Event\, 2478 Patterson Road\, Grand Junction\, CO\, 81505
CATEGORIES:Kids Camps
ORGANIZER;CN="Angelo's Pottery":MAILTO:angelos@gjangelos.com
END:VEVENT
BEGIN:VEVENT
DTSTART;TZID=UTC:20260618T130000
DTEND;TZID=UTC:20260618T150000
DTSTAMP:20260422T222827
CREATED:20260422T040700Z
LAST-MODIFIED:20260422T040700Z
UID:10000583-1781787600-1781794800@www.gjangelos.com
SUMMARY:Summer Camp Grades 6-9: Making Faces Art Camp $50 ($15 deposit)
DESCRIPTION:Our Art Camp sessions for older kids are designed to build skills in a hands-on\, engaging environment. With extended class time\, campers will have the opportunity to experiment\, explore new techniques\, and develop their artistic abilities with confidence. \nThis week we are focusing on the art of portraiture! Students will send in some portraits that they want to work on in class\, and we will recreate those portraits using screen printing and scratch art. \nA snack and a drink are included in the camp! \nIf you have difficulty booking this camp\, please contact the studio directly. Do not buy tickets from strangers on the internet. Beware of internet scams. \nWe do have a minimum number of sign ups needed to be able to hold each of our camps. If the minimum number is not reached for this camp\, we will notify you and ask if you are interested in moving your registration to another camp. If not\, we will refund your money!
URL:https://www.gjangelos.com/event/summer-camp-grades-6-9-making-faces-art-camp-50-15-deposit/
LOCATION:Studio Event\, 2478 Patterson Road\, Grand Junction\, CO\, 81505
CATEGORIES:Kids Camps
ATTACH;FMTTYPE=image/jpeg:https://www.gjangelos.com/wp-content/uploads/2026/01/IMG_7844.jpg
ORGANIZER;CN="Angelo's Pottery":MAILTO:angelos@gjangelos.com
END:VEVENT
BEGIN:VEVENT
DTSTART;TZID=UTC:20260624T100000
DTEND;TZID=UTC:20260624T143000
DTSTAMP:20260422T222827
CREATED:20260422T035133Z
LAST-MODIFIED:20260422T035133Z
UID:10000578-1782295200-1782311400@www.gjangelos.com
SUMMARY:Summer Camp Ages 4-6: Toy Story Camp($15 deposit)
DESCRIPTION:Sign your elementary school student up for a half day! of camp\, or a full day of camp for a $5 discount! If you sign up for a full day\, please send a lunch with your kiddo to eat between classes!  Each session costs $40 or attend both for $75. \nWe have the following activities planned: \n10 AM to Noon Session: Choose Your Favorite Character for Painted ceramic tiles and a faux stained-glass project \n12:20 to 2:30: Super Mario Star Sculpture and Super Mario Canvas \nIf you have difficulty booking this camp\, please contact the studio directly. Do not buy tickets from strangers on the internet. Beware of internet scams. \nWe do have a minimum number of sign ups needed to be able to hold each of our camps. If the minimum number is not reached for this camp\, we will notify you and ask if you are interested in moving your registration to another camp. If not\, we will refund your money!
URL:https://www.gjangelos.com/event/summer-camp-ages-4-6-toy-story-camp15-deposit/
LOCATION:Studio Event\, 2478 Patterson Road\, Grand Junction\, CO\, 81505
CATEGORIES:Kids Camps
ORGANIZER;CN="Angelo's Pottery":MAILTO:angelos@gjangelos.com
END:VEVENT
END:VCALENDAR