BEGIN:VCALENDAR
VERSION:2.0
PRODID:-//Angelo&#039;s Pottery Studio - ECPv6.2.5//NONSGML v1.0//EN
CALSCALE:GREGORIAN
METHOD:PUBLISH
X-WR-CALNAME:Angelo&#039;s Pottery Studio
X-ORIGINAL-URL:https://www.gjangelos.com
X-WR-CALDESC:Events for Angelo&#039;s Pottery Studio
REFRESH-INTERVAL;VALUE=DURATION:PT1H
X-Robots-Tag:noindex
X-PUBLISHED-TTL:PT1H
BEGIN:VTIMEZONE
TZID:UTC
BEGIN:STANDARD
TZOFFSETFROM:+0000
TZOFFSETTO:+0000
TZNAME:UTC
DTSTART:20230101T000000
END:STANDARD
END:VTIMEZONE
BEGIN:VEVENT
DTSTART;TZID=UTC:20230905T093000
DTEND;TZID=UTC:20230905T103000
DTSTAMP:20260422T091222
CREATED:20230805T220316Z
LAST-MODIFIED:20230811T211410Z
UID:10000227-1693906200-1693909800@www.gjangelos.com
SUMMARY:Storytime -- Dinosaur\, Dinosaur\, Say Good Night
DESCRIPTION:This Toddler Time will be (pre) historic! Toddlers will create a dinosaur on canvas using their own handprints! Aprons will be provided\, and we will be using tempera paint which is clothing friendly. This is a multi media\, child centered project.  Snack and story time are included\, and you get to keep the book! Parents\, please plan on staying and experiencing the fun with your toddler.
URL:https://www.gjangelos.com/event/storytime-dinosaur-dinosaur-say-good-night/
LOCATION:Studio Event\, 2478 Patterson Road\, Grand Junction\, CO\, 81505
CATEGORIES:Classes,Kids Camps
ATTACH;FMTTYPE=image/jpeg:https://www.gjangelos.com/wp-content/uploads/2023/08/Dino.jpg
ORGANIZER;CN="Angelo's Pottery":MAILTO:angelos@gjangelos.com
END:VEVENT
BEGIN:VEVENT
DTSTART;TZID=UTC:20230909T183000
DTEND;TZID=UTC:20230909T203000
DTSTAMP:20260422T091222
CREATED:20230710T214230Z
LAST-MODIFIED:20230903T021420Z
UID:10000226-1694284200-1694291400@www.gjangelos.com
SUMMARY:Wines and Designs -- Van Gogh Camping (Adults' Night Out) -- $35
DESCRIPTION:Bring a touch of Colorado culture to this classic painting! Tonight we will be doing a camping version of\nVan Gogh’s Starry Night! This class will be canvas and acrylic paints\, so wear clothing that you can get\ncreative in!\nYour first beverage of the evening is included with your booking\, and another can be purchased at the\nevent! We are excited to offer a selection of alcoholic beverages! Choose from a variety of local wines\,\nice cold beers! We have something for everyone.\nIf you would rather skip the liquor\, we also have sodas\, coffee\, and water available for you!\nA snack is also included in your reservation fee\, but feel free to bring in your favorite food to munch on\nwhile you paint!\nJoin us for a fun evening of painting.  Deposit $10 to reserve your spot — applied to the event.
URL:https://www.gjangelos.com/event/van-gogh-camping-brushes-and-brews/
LOCATION:Studio Event\, 2478 Patterson Road\, Grand Junction\, CO\, 81505
CATEGORIES:Classes
ATTACH;FMTTYPE=image/jpeg:https://www.gjangelos.com/wp-content/uploads/2023/07/Van-Gogh-Camping-Single-Image.jpg
ORGANIZER;CN="Angelo's Pottery":MAILTO:angelos@gjangelos.com
END:VEVENT
BEGIN:VEVENT
DTSTART;TZID=UTC:20230923T183000
DTEND;TZID=UTC:20230923T203000
DTSTAMP:20260422T091222
CREATED:20230812T163352Z
LAST-MODIFIED:20230903T222331Z
UID:10000141-1695493800-1695501000@www.gjangelos.com
SUMMARY:Wines and Designs -- Mushroom Magic  $35
DESCRIPTION:Mushrooms are ALL the rage!  Let’s create a small grouping of mushrooms.  These little guys will make you smile as you look at them in your garden or potted plants.  This session will be a two part seating.  We will make the mushrooms this evening and then paint them after they are fired for the first time. \n\nYour first beverage of the evening is included with your booking\, and another can be purchased at the event! We are excited to offer a selection of alcoholic beverages! Choose from a variety of local wines\, ice cold beers! We have something for everyone. If you would rather skip the liquor\, we also have sodas\, coffee\, and water available for you!\nA snack is also included in your reservation fee\, but feel free to bring in your favorite food to munch on while you paint!\nJoin us for a fun evening of painting.  Deposit $10 to reserve your spot — applied to the event. \n\nMake some memories with us.
URL:https://www.gjangelos.com/event/wines-and-designs-mushroom-magic-35/
LOCATION:Studio Event\, 2478 Patterson Road\, Grand Junction\, CO\, 81505
CATEGORIES:Classes
ATTACH;FMTTYPE=image/jpeg:https://www.gjangelos.com/wp-content/uploads/2023/07/Clay-Mushrooms.jpg
ORGANIZER;CN="Angelo's Pottery":MAILTO:angelos@gjangelos.com
END:VEVENT
BEGIN:VEVENT
DTSTART;TZID=UTC:20230928T100000
DTEND;TZID=UTC:20230928T120000
DTSTAMP:20260422T091222
CREATED:20230918T165911Z
LAST-MODIFIED:20230927T165452Z
UID:10000233-1695895200-1695902400@www.gjangelos.com
SUMMARY:Wet Clay with Justine --Fall Pinch Pot Class -- Grades K-2
DESCRIPTION:Justine is a certified art teacher with a specialty in wet clay.  Today kids will make a pinch pot pumpkin\, lantern\, cat\, or some other seasonal piece.  Each child can choose their piece.  These will be bisque fired and the kids can come back later to paint on their own\, or they can paint it at the next class day. \nThese classes will include a light snack and drink.  Kids should dress casually\, appropriate for playing in the mud.
URL:https://www.gjangelos.com/event/wet-clay-with-justine-fall-pinch-pot-class-grades-k-2/
LOCATION:Studio Event\, 2478 Patterson Road\, Grand Junction\, CO\, 81505
CATEGORIES:Classes,Kids Camps
ATTACH;FMTTYPE=image/jpeg:https://www.gjangelos.com/wp-content/uploads/2023/09/Finished-Pinch-Pots.jpg
ORGANIZER;CN="Angelo's Pottery":MAILTO:angelos@gjangelos.com
END:VEVENT
BEGIN:VEVENT
DTSTART;TZID=UTC:20230928T140000
DTEND;TZID=UTC:20230928T160000
DTSTAMP:20260422T091222
CREATED:20230906T235100Z
LAST-MODIFIED:20230927T165614Z
UID:10000229-1695909600-1695916800@www.gjangelos.com
SUMMARY:Wet Clay with Justine --Fall Pinch Pot Class -- Grades 3-5
DESCRIPTION:Justine is a certified art teacher with a specialty in wet clay.  Today kids will make a pinch pot pumpkin\, lantern\, cat\, or some other seasonal piece.  Each child can choose their piece.  These will be bisque fired and the kids can come back later to paint on their own\, or they can paint it at the next class day. \nThese classes will include a light snack and drink.  Kids should dress casually\, appropriate for playing in the mud.
URL:https://www.gjangelos.com/event/wet-clay-with-justine-fall-pinch-pot-class-grades-3-5/
LOCATION:Studio Event\, 2478 Patterson Road\, Grand Junction\, CO\, 81505
CATEGORIES:Classes,Kids Camps
ATTACH;FMTTYPE=image/jpeg:https://www.gjangelos.com/wp-content/uploads/2023/09/Finished-Pinch-Pots.jpg
ORGANIZER;CN="Angelo's Pottery":MAILTO:angelos@gjangelos.com
END:VEVENT
BEGIN:VEVENT
DTSTART;TZID=UTC:20230930T183000
DTEND;TZID=UTC:20230930T203000
DTSTAMP:20260422T091222
CREATED:20230813T213453Z
LAST-MODIFIED:20230930T005014Z
UID:10000142-1696098600-1696105800@www.gjangelos.com
SUMMARY:House and Hobbit -- Wines and Designs -- $80
DESCRIPTION:Can you think of a more delightful couple’s class?  We can’t.  Create this hobbit and house as a couple.  Work on the two pieces together and then put them together to hang in your home.  Our hobbit house is a little mossy\, but yours can be anything you want it to be.  Bring your loved one and make a memory tonight. \nYour first beverage of the evening for each of you is included with your booking\, and another can be purchased at the event! We are excited to offer a selection of alcoholic beverages! Choose from a variety of local wines\, ice cold beers! We have something for everyone.   If you would rather skip the liquor\, we also have sodas\, coffee\, and water available for you!  A snack is also included in your reservation fee\, but feel free to bring in your favorite food to munch on\nwhile you paint!\nJoin us for a fun evening of painting.  $20 Deposit will be applied to the total cost of $80 at the event.
URL:https://www.gjangelos.com/event/wines-and-designs-house-and-hobbit-80/
LOCATION:Studio Event\, 2478 Patterson Road\, Grand Junction\, CO\, 81505
CATEGORIES:Classes
ATTACH;FMTTYPE=image/jpeg:https://www.gjangelos.com/wp-content/uploads/2023/08/Resized_Clipped_image_20230712_135126.jpg
ORGANIZER;CN="Angelo's Pottery":MAILTO:angelos@gjangelos.com
END:VEVENT
END:VCALENDAR