BEGIN:VCALENDAR
VERSION:2.0
PRODID:-//Angelo&#039;s Pottery Studio - ECPv6.2.5//NONSGML v1.0//EN
CALSCALE:GREGORIAN
METHOD:PUBLISH
X-WR-CALNAME:Angelo&#039;s Pottery Studio
X-ORIGINAL-URL:https://www.gjangelos.com
X-WR-CALDESC:Events for Angelo&#039;s Pottery Studio
REFRESH-INTERVAL;VALUE=DURATION:PT1H
X-Robots-Tag:noindex
X-PUBLISHED-TTL:PT1H
BEGIN:VTIMEZONE
TZID:UTC
BEGIN:STANDARD
TZOFFSETFROM:+0000
TZOFFSETTO:+0000
TZNAME:UTC
DTSTART:20230101T000000
END:STANDARD
END:VTIMEZONE
BEGIN:VEVENT
DTSTART;TZID=UTC:20231201T183000
DTEND;TZID=UTC:20231201T203000
DTSTAMP:20260421T221246
CREATED:20231101T015725Z
LAST-MODIFIED:20231106T235730Z
UID:10000157-1701455400-1701462600@www.gjangelos.com
SUMMARY:Yanni or Rudolph -- Choose your Canvas Family Paint -- $30 each
DESCRIPTION:We were asked to make these available for adults as well.  So here it is.  This is a 12X 12 canvas.  Choose which design you want to do.  Bring your friend or loved one and paint both of them for a set tonight.  You will get a non alcoholic beverage and light snack with the project. \n**All tickets are non-transferable. \n \n 
URL:https://www.gjangelos.com/event/yanni-or-rudolph-choose-your-canvas-family-paint-30-each/
LOCATION:Studio Event\, 2478 Patterson Road\, Grand Junction\, CO\, 81505
CATEGORIES:This or That Date Night
ATTACH;FMTTYPE=image/png:https://www.gjangelos.com/wp-content/uploads/2023/11/yanni-and-Rudolph-1.png
ORGANIZER;CN="Angelo's Pottery":MAILTO:angelos@gjangelos.com
END:VEVENT
BEGIN:VEVENT
DTSTART;TZID=UTC:20231202T190000
DTEND;TZID=UTC:20231202T210000
DTSTAMP:20260421T221246
CREATED:20230920T223917Z
LAST-MODIFIED:20231106T235424Z
UID:10000237-1701543600-1701550800@www.gjangelos.com
SUMMARY:Vintage Glazing Event -- Wines & Designs -- $10 Event Fee (You choose your item night of)
DESCRIPTION:We have a wide array of Vintage Christmas items to glaze and paint.  Join us for an evening of fun and choices . . . really hard choices!  Do a tree that lights up your hearth\, or the southwest flavor of a lighted cactus\, a truck with a tree or a woody wagon with a tree.  How about a wreath?  We have many pieces at many price points.  The only thing limited are the number of seats. \nWe are excited to offer a selection of alcoholic beverages!  Your first beverage of the evening is included with your booking\, and another can be purchased at the event!  Choose from a variety of local wines\, ice cold beers\, and seltzers! We have something for everyone. If you would rather skip the liquor\, we also have sodas\, coffee\, and water available for you! A snack is also included in your reservation fee\, but feel free to bring in your favorite food to munch on while you paint! \n**All tickets are non-transferable. \n   \n 
URL:https://www.gjangelos.com/event/vintage-glazing-event-wines-designs-10-deposit-you-choose-your-item-night-of/
LOCATION:Studio Event\, 2478 Patterson Road\, Grand Junction\, CO\, 81505
CATEGORIES:Classes,Studio Celebrations,Wines and Designs
ATTACH;FMTTYPE=image/jpeg:https://www.gjangelos.com/wp-content/uploads/2020/10/Gare-Image-Gallery-Christmas-Trees-and-Wreath-scaled.jpg
ORGANIZER;CN="Angelo's Pottery":MAILTO:angelos@gjangelos.com
END:VEVENT
BEGIN:VEVENT
DTSTART;TZID=UTC:20231209T183000
DTEND;TZID=UTC:20231209T210000
DTSTAMP:20260421T221246
CREATED:20231010T202537Z
LAST-MODIFIED:20231106T235832Z
UID:10000151-1702146600-1702155600@www.gjangelos.com
SUMMARY:Holidays in the Highlands -- Wines and Designs -- $42
DESCRIPTION:You chose this incredibly cute\, festive highland cow for this month’s canvas — good choice.  Who doesn’t just love a hairy cow!?  Join us for the festivities and personalize your canvas as we go.  There will laughs and friendship and\, of course\, cows. This is a 16 X 20 canvas project. \nWe are excited to offer a selection of alcoholic beverages!  Your first beverage of the evening is included with your booking\, and another can be purchased at the event!  Choose from a variety of local wines\, ice cold beers\, and seltzers! We have something for everyone. If you would rather skip the liquor\, we also have sodas\, coffee\, and water available for you! A snack is also included in your reservation fee\, but feel free to bring in your favorite food to munch on while you paint! \nYour $10 deposit will apply to the cost at the event.  **All tickets are non-transferable.
URL:https://www.gjangelos.com/event/holidays-in-the-highlands-wines-and-designs-42/
LOCATION:Studio Event\, 2478 Patterson Road\, Grand Junction\, CO\, 81505
CATEGORIES:Classes,Wines and Designs
ATTACH;FMTTYPE=image/jpeg:https://www.gjangelos.com/wp-content/uploads/2023/10/HolidaysInTheHighlands.jpg
ORGANIZER;CN="Angelo's Pottery":MAILTO:angelos@gjangelos.com
END:VEVENT
BEGIN:VEVENT
DTSTART;TZID=UTC:20231210T170000
DTEND;TZID=UTC:20231210T180000
DTSTAMP:20260421T221246
CREATED:20230904T235506Z
LAST-MODIFIED:20231119T030549Z
UID:10000149-1702227600-1702231200@www.gjangelos.com
SUMMARY:Santa & Me 5PM to 6PM
DESCRIPTION:Santa is visiting.  Come in and take photos\, sit on Santa’s lap\, and create a handprint plate that has Santa’s print and the child’s as well.  Our artists will decorate and do the calligraphy so that this becomes a family memory piece.  We will have cookies and hot cocoa for everyone.  Come spend some time with Santa.  You can paint an ornament if you wish.  Choose either a mug or a plate. \n**All tickets are non-transferable.
URL:https://www.gjangelos.com/event/handprints-with-santa/
LOCATION:Studio Event\, 2478 Patterson Road\, Grand Junction\, CO\, 81505
CATEGORIES:Studio Celebrations
ATTACH;FMTTYPE=image/jpeg:https://www.gjangelos.com/wp-content/uploads/2021/11/Santa-at-tree.jpg
ORGANIZER;CN="Angelo's Pottery":MAILTO:angelos@gjangelos.com
END:VEVENT
BEGIN:VEVENT
DTSTART;TZID=UTC:20231210T180000
DTEND;TZID=UTC:20231210T190000
DTSTAMP:20260421T221246
CREATED:20230905T000428Z
LAST-MODIFIED:20231107T000033Z
UID:10000228-1702231200-1702234800@www.gjangelos.com
SUMMARY:Santa & Me 6PM to 7PM
DESCRIPTION:Santa is visiting.  Come in and take photos\, sit on Santa’s lap\, and create a handprint plate that has Santa’s print and the child’s as well.  Our artists will decorate and do the calligraphy so that this becomes a family memory piece.  We will have cookies and hot cocoa for everyone.  Come spend some time with Santa.  You can paint an ornament if you wish.  Choose either a mug or a plate. \n**You need a ticket for each child.  Each will get a memory piece.  If you wish to have more than one Child’s print on a piece\, order a plate and order only one. \n**All tickets are non-transferable.
URL:https://www.gjangelos.com/event/santa-me-6pm-to-7pm/
LOCATION:Studio Event\, 2478 Patterson Road\, Grand Junction\, CO\, 81505
CATEGORIES:Studio Celebrations
ATTACH;FMTTYPE=image/jpeg:https://www.gjangelos.com/wp-content/uploads/2021/11/Santa-at-tree.jpg
ORGANIZER;CN="Angelo's Pottery":MAILTO:angelos@gjangelos.com
END:VEVENT
BEGIN:VEVENT
DTSTART;TZID=UTC:20231215T183000
DTEND;TZID=UTC:20231215T203000
DTSTAMP:20260421T221246
CREATED:20231114T032443Z
LAST-MODIFIED:20231125T030332Z
UID:10000238-1702665000-1702672200@www.gjangelos.com
SUMMARY:Grinches and Griswolds -- $10 reservation fee
DESCRIPTION:Are you feeling grinchy lately? Let us help you get into the holiday spirit! We have a ton of fun\, holiday silkscreens\, many from popular movies. Choose a piece\, paint it\, and we will help you screen it! Enjoy some Christmas cookies and hot cocoa or cider and a festive atmosphere while you paint\, and take away a memory piece that will remind you of Christmas all year long..  We will have silkscreens and holiday cheer to spare.  Reservation fee pays for the event and does not apply to your choice of pottery which you will pay for that evening.
URL:https://www.gjangelos.com/event/love-it-or-hate-it-christmas-is-coming-wines-and-designs-10-reservation-fee/
LOCATION:Studio Event\, 2478 Patterson Road\, Grand Junction\, CO\, 81505
CATEGORIES:Studio Celebrations
ATTACH;FMTTYPE=image/jpeg:https://www.gjangelos.com/wp-content/uploads/2023/11/20231122_132340-scaled.jpg
ORGANIZER;CN="Angelo's Pottery":MAILTO:angelos@gjangelos.com
END:VEVENT
BEGIN:VEVENT
DTSTART;TZID=UTC:20231216T183000
DTEND;TZID=UTC:20231216T203000
DTSTAMP:20260421T221246
CREATED:20231010T203351Z
LAST-MODIFIED:20231201T204433Z
UID:10000152-1702751400-1702758600@www.gjangelos.com
SUMMARY:St. Nick Gnome -- Wines and Designs  (This or That) -- $42
DESCRIPTION:Who doesn’t love a gnome.  This class gives you a delightful choice between painting this adorable Santa Gnome or a gnome figurine in a similar style.  Bring your date\, spouse\, loved one and create a colorful set of a canvas and a figurine which complement one another.  Who gets to do what?  Enjoy a lively evening. \nWe are excited to offer a selection of alcoholic beverages!  Your first beverage of the evening is included with your booking\, and another can be purchased at the event!  Choose from a variety of local wines\, ice cold beers\, and seltzers! We have something for everyone. If you would rather skip the liquor\, we also have sodas\, coffee\, and water available for you! A snack is also included in your reservation fee\, but feel free to bring in your favorite food to munch on while you paint! \nYour $10 deposit will apply to the cost at the event.  **All tickets are non-transferable. \n  \n  \n 
URL:https://www.gjangelos.com/event/st-nick-gnome-wines-and-designs-this-or-that-42/
LOCATION:Studio Event\, 2478 Patterson Road\, Grand Junction\, CO\, 81505
CATEGORIES:Classes,Wines and Designs
ATTACH;FMTTYPE=image/jpeg:https://www.gjangelos.com/wp-content/uploads/2023/10/Old-St-Nick.jpg
ORGANIZER;CN="Angelo's Pottery":MAILTO:angelos@gjangelos.com
END:VEVENT
END:VCALENDAR