BEGIN:VCALENDAR
VERSION:2.0
PRODID:-//Angelo&#039;s Pottery Studio - ECPv6.2.5//NONSGML v1.0//EN
CALSCALE:GREGORIAN
METHOD:PUBLISH
X-WR-CALNAME:Angelo&#039;s Pottery Studio
X-ORIGINAL-URL:https://www.gjangelos.com
X-WR-CALDESC:Events for Angelo&#039;s Pottery Studio
REFRESH-INTERVAL;VALUE=DURATION:PT1H
X-Robots-Tag:noindex
X-PUBLISHED-TTL:PT1H
BEGIN:VTIMEZONE
TZID:UTC
BEGIN:STANDARD
TZOFFSETFROM:+0000
TZOFFSETTO:+0000
TZNAME:UTC
DTSTART:20240101T000000
END:STANDARD
END:VTIMEZONE
BEGIN:VEVENT
DTSTART;TZID=UTC:20240202T180000
DTEND;TZID=UTC:20240202T203000
DTSTAMP:20260421T153121
CREATED:20231125T161314Z
LAST-MODIFIED:20231125T161442Z
UID:10000243-1706896800-1706905800@www.gjangelos.com
SUMMARY:First Friday -- Bar is open all night long!
DESCRIPTION:We will have wine and beer available for purchase this evening.  Bring in your own pizza or sandwich. Come in with a friend\, order a beer or glass of wine and relax with your friends for the evening.  Paint what you’d like at your own pace and enjoy the company that you choose.  Limit of 2 drinks per person. Be prepared to show a physical ID — we don’t honor digital ID’s.
URL:https://www.gjangelos.com/event/first-friday-bar-is-open-all-night-long-2/
LOCATION:Studio Event\, 2478 Patterson Road\, Grand Junction\, CO\, 81505
CATEGORIES:Wines and Designs
ATTACH;FMTTYPE=image/jpeg:https://www.gjangelos.com/wp-content/uploads/2020/04/Wine-for-Two.jpg
ORGANIZER;CN="Angelo's Pottery":MAILTO:angelos@gjangelos.com
END:VEVENT
BEGIN:VEVENT
DTSTART;TZID=UTC:20240210T100000
DTEND;TZID=UTC:20240210T110000
DTSTAMP:20260421T153121
CREATED:20230908T233256Z
LAST-MODIFIED:20240208T043346Z
UID:10000166-1707559200-1707562800@www.gjangelos.com
SUMMARY:Wet Clay with Justine --Owl Plaques -- Grades K-2
DESCRIPTION:Justine is a certified art teacher with a specialty in wet clay.  These classes will run once a month on a Saturday.  Today students cut out a flat owl and use stamps to add fun textures.  These will be bisque fired and the kids can come back later to paint on their own\, or they can paint it at the next class day. \nThese classes will include a light snack and drink.  Kids should dress casually\, appropriate for playing in the mud.
URL:https://www.gjangelos.com/event/wet-clay-with-justine-owl-plaques-grades-k-2/
LOCATION:Studio Event\, 2478 Patterson Road\, Grand Junction\, CO\, 81505
CATEGORIES:Classes,Kids Camps
ATTACH;FMTTYPE=image/jpeg:https://www.gjangelos.com/wp-content/uploads/2023/09/Flat-Owl.jpg
ORGANIZER;CN="Angelo's Pottery":MAILTO:angelos@gjangelos.com
END:VEVENT
BEGIN:VEVENT
DTSTART;TZID=UTC:20240210T130000
DTEND;TZID=UTC:20240210T150000
DTSTAMP:20260421T153121
CREATED:20231007T161711Z
LAST-MODIFIED:20240208T140250Z
UID:10000167-1707570000-1707577200@www.gjangelos.com
SUMMARY:Wet Clay with Justine -- Bobble Head Owls -- Grades 3-7
DESCRIPTION:Justine is a certified art teacher with a specialty in wet clay.  These classes will run once a month on a Saturday.  These adorable bobble head owls are not just fun to make\, but fun to play with as well.  Two pinch pots make this  a challenging but worthwhile experience for our kids.  They will create them with Justine and paint them to suit themselves after they are bisque fired.   This class is designed for the slightly older  kid. \nThese classes will include a light snack and drink.  Kids should dress casually\, appropriate for playing in the mud. \nClass must hit at least 5 students to hold.   We will refund fully if it does not hit this threshhold.  Tickets are not transferable.
URL:https://www.gjangelos.com/event/wet-clay-with-justine-bobble-head-owls-grades-3-7/
LOCATION:Studio Event\, 2478 Patterson Road\, Grand Junction\, CO\, 81505
CATEGORIES:Classes,Kids Camps
ATTACH;FMTTYPE=image/jpeg:https://www.gjangelos.com/wp-content/uploads/2023/09/Bobble-head-Owl.jpg
ORGANIZER;CN="Angelo's Pottery":MAILTO:angelos@gjangelos.com
END:VEVENT
BEGIN:VEVENT
DTSTART;TZID=UTC:20240213T093000
DTEND;TZID=UTC:20240213T104500
DTSTAMP:20260421T153121
CREATED:20231230T024228Z
LAST-MODIFIED:20240116T180729Z
UID:10000245-1707816600-1707821100@www.gjangelos.com
SUMMARY:Toddler Time -- Our Little Love -- $24 (Ages 3-5)
DESCRIPTION:The book this month is The Littlest Valentine.  We are reading this delightful Valentine story\, and we are creating a canvas with stickers and vinyl and toddler handprints designed to melt your heart! We will be using tempera paint\, but wear clothes that you don’t mind getting messy.  Your child will choose their own colors\, and we will use vinyl stickers to create a piece you can hang your heart on.  Snack and story time are included\, and you get to keep the book! Parents\, please plan on staying and experiencing the fun with your toddler. \nAs always\, our story times come with snacks and drinks for both parent and child. \n**All tickets are non-transferable. \n 
URL:https://www.gjangelos.com/event/toddler-time-its-my-own-24-ages-3-5-2/
LOCATION:Studio Event\, 2478 Patterson Road\, Grand Junction\, CO\, 81505
CATEGORIES:Kids Camps
ATTACH;FMTTYPE=image/jpeg:https://www.gjangelos.com/wp-content/uploads/2023/12/The-Littlest-Valentine.jpg
ORGANIZER;CN="Angelo's Pottery":MAILTO:angelos@gjangelos.com
END:VEVENT
BEGIN:VEVENT
DTSTART;TZID=UTC:20240216T183000
DTEND;TZID=UTC:20240216T210000
DTSTAMP:20260421T153121
CREATED:20240113T171920Z
LAST-MODIFIED:20240214T013338Z
UID:10000248-1708108200-1708117200@www.gjangelos.com
SUMMARY:Treat Yo' Self -- A Galentines Event -- $12 event fee
DESCRIPTION:This will be an evening of girl fun and bonding. Grab your girlfriends this Valentine’s week and Treat Yo’ Selves to a night of painting and pampering!  We will have a great selection of pottery available\, as well as some Parks and Recs silkscreens if you would like to create a tribute to the founder of Galentine’s Day. A henna tattoo artist will be providing free henna tattoos to all participants in the event and we will have some deliciously indulgent treats available. Wine and beer will be available for purchase. Your $12 event fee will NOT apply to your purchase that evening.  The reservation fee is not refundable.
URL:https://www.gjangelos.com/event/treat-yo-self-a-galentines-event-12-event-fee/
LOCATION:Studio Event\, 2478 Patterson Road\, Grand Junction\, CO\, 81505
CATEGORIES:Studio Celebrations,Wines and Designs
ATTACH;FMTTYPE=image/png:https://www.gjangelos.com/wp-content/uploads/2024/01/Facebook-Event-Covers-Facebook-Post-2.png
ORGANIZER;CN="Angelo's Pottery":MAILTO:angelos@gjangelos.com
END:VEVENT
BEGIN:VEVENT
DTSTART;TZID=UTC:20240217T183000
DTEND;TZID=UTC:20240217T210000
DTSTAMP:20260421T153121
CREATED:20240102T031312Z
LAST-MODIFIED:20240109T013239Z
UID:10000247-1708194600-1708203600@www.gjangelos.com
SUMMARY:Koi Couple -- Wines and Designs -- $20 Deposit
DESCRIPTION:$80 per couple.  Bring you love to paint this wonderful canvas set together.  This can be a romantic couple or a mother and daughter\, father and son\, best friends.  Form the perfect Yin Yang and put them side by side.  We will cover the first drink whether it is wine\, beer\, soda\, coffee\, or just water.   We will provide a small Valentine snack as well.  Your deposit will be applied to your ticket that evening.
URL:https://www.gjangelos.com/event/koi-couple-wines-and-designs-20-deposit/
LOCATION:Studio Event\, 2478 Patterson Road\, Grand Junction\, CO\, 81505
CATEGORIES:Classes,Studio Celebrations,Wines and Designs
ATTACH;FMTTYPE=image/jpeg:https://www.gjangelos.com/wp-content/uploads/2024/01/Koi-Couple-High-Res-Image-e1704165676494.jpg
ORGANIZER;CN="Angelo's Pottery":MAILTO:angelos@gjangelos.com
END:VEVENT
BEGIN:VEVENT
DTSTART;TZID=UTC:20240224T183000
DTEND;TZID=UTC:20240224T203000
DTSTAMP:20260421T153121
CREATED:20231230T030525Z
LAST-MODIFIED:20240115T023550Z
UID:10000246-1708799400-1708806600@www.gjangelos.com
SUMMARY:Pottery and Peacocks  -- Stoneware Bowls -- Wines and Designs --$10 Event Fee
DESCRIPTION:Get this beautiful design in any color combination that suits your decor and taste.  Sometimes they come out more beautiful than you thought possible.  Bring a friend and enjoy an evening of creativity and conversation with Taren.  You choose you bowl the night of the event — your event fee does not apply to the piece you choose.  This event includes your first drink: a glass of wine\, a can of beer\, a soda\, cup of coffee\, or bottle of water.  A light snack is provided as well. The event fee is non-refundable.  It can be applied to another event.
URL:https://www.gjangelos.com/event/pottery-and-peacocks-stoneware-bowls-wines-and-designs-10-deposit-2/
LOCATION:Studio Event\, 2478 Patterson Road\, Grand Junction\, CO\, 81505
CATEGORIES:Classes,Wines and Designs
ATTACH;FMTTYPE=image/jpeg:https://www.gjangelos.com/wp-content/uploads/2023/11/FB_IMG_1694898261262.jpg
ORGANIZER;CN="Angelo's Pottery":MAILTO:angelos@gjangelos.com
END:VEVENT
END:VCALENDAR