BEGIN:VCALENDAR
VERSION:2.0
PRODID:-//Angelo&#039;s Pottery Studio - ECPv6.2.5//NONSGML v1.0//EN
CALSCALE:GREGORIAN
METHOD:PUBLISH
X-ORIGINAL-URL:https://www.gjangelos.com
X-WR-CALDESC:Events for Angelo&#039;s Pottery Studio
REFRESH-INTERVAL;VALUE=DURATION:PT1H
X-Robots-Tag:noindex
X-PUBLISHED-TTL:PT1H
BEGIN:VTIMEZONE
TZID:UTC
BEGIN:STANDARD
TZOFFSETFROM:+0000
TZOFFSETTO:+0000
TZNAME:UTC
DTSTART:20240101T000000
END:STANDARD
END:VTIMEZONE
BEGIN:VEVENT
DTSTART;TZID=UTC:20240802T180000
DTEND;TZID=UTC:20240802T203000
DTSTAMP:20260421T153329
CREATED:20240526T143540Z
LAST-MODIFIED:20240526T143540Z
UID:10000322-1722621600-1722630600@www.gjangelos.com
SUMMARY:First Friday -- Bar is open all night long!
DESCRIPTION:We will have wine and beer available for purchase this evening.  Bring in your own pizza or sandwich. Come in with a friend\, order a beer or glass of wine and relax with your friends for the evening.  Paint what you’d like at your own pace and enjoy the company that you choose.  Limit of 2 drinks per person. Be prepared to show a physical ID — we don’t honor digital ID’s.  Let us know you are coming by RSVPing (we will save a table for your party) or you can just drop in.  Either works for us.
URL:https://www.gjangelos.com/event/first-friday-bar-is-open-all-night-long-8/
LOCATION:Studio Event\, 2478 Patterson Road\, Grand Junction\, CO\, 81505
CATEGORIES:Wines and Designs
ATTACH;FMTTYPE=image/jpeg:https://www.gjangelos.com/wp-content/uploads/2020/04/Wine-for-Two.jpg
ORGANIZER;CN="Angelo's Pottery":MAILTO:angelos@gjangelos.com
END:VEVENT
BEGIN:VEVENT
DTSTART;TZID=UTC:20240803T183000
DTEND;TZID=UTC:20240803T203000
DTSTAMP:20260421T153329
CREATED:20240526T143124Z
LAST-MODIFIED:20240612T214808Z
UID:10000321-1722709800-1722717000@www.gjangelos.com
SUMMARY:Pottery and Peacocks  -- Stoneware Bowls -- Wines and Designs --$10 Event Fee
DESCRIPTION:Get this beautiful design in any color combination that suits your decor and taste.  Sometimes they come out more beautiful than you thought possible.  Bring a friend and enjoy an evening of creativity and conversation with our artist.  You choose you bowl the night of the event — your event fee does not apply to the piece you choose.  This event includes your first drink: a glass of wine\, a can of beer\, a soda\, cup of coffee\, or bottle of water.  A light snack is provided as well. The event fee is non-refundable.  It can be applied to another event.
URL:https://www.gjangelos.com/event/pottery-and-peacocks-stoneware-bowls-wines-and-designs-10-event-fee-4/
LOCATION:Studio Event\, 2478 Patterson Road\, Grand Junction\, CO\, 81505
CATEGORIES:Classes,Wines and Designs
ATTACH;FMTTYPE=image/jpeg:https://www.gjangelos.com/wp-content/uploads/2023/11/FB_IMG_1694898261262.jpg
ORGANIZER;CN="Angelo's Pottery":MAILTO:angelos@gjangelos.com
END:VEVENT
BEGIN:VEVENT
DTSTART;TZID=UTC:20240810T180000
DTEND;TZID=UTC:20240810T210000
DTSTAMP:20260421T153329
CREATED:20240618T021434Z
LAST-MODIFIED:20240618T021434Z
UID:10000326-1723312800-1723323600@www.gjangelos.com
SUMMARY:Moonlight Stroll -- Wines and Designs (Either Or Date Night) -- $46
DESCRIPTION:This canvas combines two of our favorite things:  mushrooms and irresistible cuteness!  Join us for a design that will make you smile all evening long.  Not up for canvas tonight? — Substitute a mushroom lantern pottery piece instead (price depends on choice.)  Bring someone special to you and do both in the same evening and pair them in your home. \nThis is a 16 X 20 canvas project. This canvas is a Level Three: Because this is a more complex design\, our studio artist will get you started with a canvas with the outline and preliminary shading already in place to set you up for a more enjoyable experience! Even with those preliminary items set\, you will still have flexibility in your color choices and the finer details! These classes are three hours long to ensure you have time to paint those details in to your satisfaction \nWe are excited to offer a selection of alcoholic beverages!  Your first beverage of the evening is included with your booking\, and another can be purchased at the event!  Choose from a variety of local wines\, ice cold beers\, ciders\, and seltzers! We have something for everyone. If you would rather skip the liquor\, we also have sodas\, coffee\, and water available for you! A snack is also included in your reservation fee\, but feel free to bring in your favorite food to munch on while you paint! \nYour $10 deposit will apply to the cost at the event.  **All tickets are non-transferable and the deposit is not refundable. \n 
URL:https://www.gjangelos.com/event/moonlight-stroll-wines-and-designs-either-or-date-night-46/
LOCATION:Studio Event\, 2478 Patterson Road\, Grand Junction\, CO\, 81505
CATEGORIES:Classes,Either Or Date Night,Wines and Designs
ATTACH;FMTTYPE=image/jpeg:https://www.gjangelos.com/wp-content/uploads/2024/06/snail-Midnight-stroll-scaled.jpeg
ORGANIZER;CN="Angelo's Pottery":MAILTO:angelos@gjangelos.com
END:VEVENT
BEGIN:VEVENT
DTSTART;TZID=UTC:20240813T093000
DTEND;TZID=UTC:20240813T104500
DTSTAMP:20260421T153329
CREATED:20240620T021555Z
LAST-MODIFIED:20240810T005343Z
UID:10000329-1723541400-1723545900@www.gjangelos.com
SUMMARY:Toddler Time -- Daniel Tiger Chooses to Be Kind -- $25 (Ages 3-5)
DESCRIPTION:Each toddler will make a small dish with a crown in the center and his/her name on the crown\, for instance “King Asher or Queen Emma”.  We have kids decorate their own crowns out of the foam and we will use the cutter to make letters so they can spell their names on the crown.  This is not a drop off event so adults will need to stay and play with us.  \nAs always\, our story times come with snacks and drinks for both parent and child. \n**All tickets are non-transferable. \n  \n 
URL:https://www.gjangelos.com/event/toddler-time-daniel-tiger-chooses-to-be-kind-25-ages-3-5/
LOCATION:Studio Event\, 2478 Patterson Road\, Grand Junction\, CO\, 81505
CATEGORIES:Kids Camps
ATTACH;FMTTYPE=image/jpeg:https://www.gjangelos.com/wp-content/uploads/2024/06/Daniel-Chooses-to-Be-Kind.jpg
ORGANIZER;CN="Angelo's Pottery":MAILTO:angelos@gjangelos.com
END:VEVENT
BEGIN:VEVENT
DTSTART;TZID=UTC:20240816T183000
DTEND;TZID=UTC:20240816T210000
DTSTAMP:20260421T153329
CREATED:20240620T002115Z
LAST-MODIFIED:20240810T005517Z
UID:10000328-1723833000-1723842000@www.gjangelos.com
SUMMARY:Naughty Pottery -- Wines and Designs
DESCRIPTION:Come in and have an adult night in.  The bar will be open and drinks can be purchased (maximum 2 per participant).  We will have snacks and laughs and\, most of all\, fun!  Bring a friend or family member.  Choose the piece you wish to design. We will bring out our naughty\, snarky\, and adult silk screens. You bring your tribe and a sense of humor.  Prepare yourself for a night of fun.  You choose your pottery\, so you control the cost. \nYour deposit will apply to your purchase that evening and is non refundable. The bar is open\, but is not included in the event price. \n*Do not buy tickets from the internet.  These are not transferable.
URL:https://www.gjangelos.com/event/naughty-pottery-wines-and-designs-2/
LOCATION:Studio Event\, 2478 Patterson Road\, Grand Junction\, CO\, 81505
CATEGORIES:Wines and Designs
ATTACH;FMTTYPE=image/jpeg:https://www.gjangelos.com/wp-content/uploads/2021/07/Naughty-Silkscreens.jpg
ORGANIZER;CN="Angelo's Pottery":MAILTO:angelos@gjangelos.com
END:VEVENT
BEGIN:VEVENT
DTSTART;TZID=UTC:20240822T180000
DTEND;TZID=UTC:20240822T200000
DTSTAMP:20260421T153329
CREATED:20240620T002012Z
LAST-MODIFIED:20240708T150227Z
UID:10000327-1724349600-1724356800@www.gjangelos.com
SUMMARY:Ladies Night Out! -- Wines and Designs -- $15 Event Fee
DESCRIPTION:Women need women.  Let’s get together and create and chat and drink and laugh and do it again.  One Thursday of every month.  Our theme this month is flowers and butterflies.  Your first drink\, either alcohol or soda or water is on us.  Our silk screens and projects will be centered around our theme\, but you choose your piece.  We will have an “extra” project on the side.  This month\, everyone will produce a resin\, floral pendant as part of the event price.  So many to choose from and so many flowers to go in them!  We haven’t done this before and it is a LOT of fun.  Let’s have some fun — and then some.  Bring a friend and make some friends.  We will be doing this every month. \nYour deposit does not apply to your choices that evening.  This deposit is not refundable or transferable.  * Do not buy tickets from people on the internet.
URL:https://www.gjangelos.com/event/ladies-night-out-wines-and-designs-15-event-fee/
LOCATION:Studio Event\, 2478 Patterson Road\, Grand Junction\, CO\, 81505
CATEGORIES:Ladies Night Out,Wines and Designs
ATTACH;FMTTYPE=image/jpeg:https://www.gjangelos.com/wp-content/uploads/2024/06/Dried-flowers.jpg
ORGANIZER;CN="Angelo's Pottery":MAILTO:angelos@gjangelos.com
END:VEVENT
BEGIN:VEVENT
DTSTART;TZID=UTC:20240824T180000
DTEND;TZID=UTC:20240824T210000
DTSTAMP:20260421T153329
CREATED:20240710T031514Z
LAST-MODIFIED:20240710T031514Z
UID:10000331-1724522400-1724533200@www.gjangelos.com
SUMMARY:Desert in Bloom -- Wines and Designs -- (Adults' Night Out) -- $45
DESCRIPTION:This is not a canvas!!  Join us for a board art project with acrylic.  Your cacti can be different colors than our or the same.  You can paint this on the outside of the board\, as we have\, and hang it like a canvas or turn it over and paint inside\, creating a shadowbox or tray.  This painting can be sealed after it is finished to a glossy finish.  This beautiful piece has endless variations and possibilities — come and explore them with us.  This is a level 3 project and will take the entire 3 hours.  Some prep work will be done on the boards before you arrive. \nYour first beverage of the evening is included with your booking\, and another can be purchased at the event! We offer a selection of alcoholic beverages! Choose from a variety of local wines\, ice cold beers\, ciders\, or seltzers! We have something for everyone. If you would rather skip the liquor\, we also have sodas\, coffee\, and water available for you!  A snack is also included in your reservation fee\, but feel free to bring in your favorite food to munch on while you paint!  Join us for a fun evening of painting. \nDeposit $10 to reserve your spot — applies to the event.  Tickets are not transferable\, so don’t buy them from a scammer on the web claiming to have one.  Call and we will put you on a wait list.  Deposit is not refundable but can be applied to another event. \n  \n 
URL:https://www.gjangelos.com/event/desert-in-bloom-wines-and-designs-adults-night-out-45/
LOCATION:Studio Event\, 2478 Patterson Road\, Grand Junction\, CO\, 81505
CATEGORIES:Classes,Wines and Designs
ATTACH;FMTTYPE=image/jpeg:https://www.gjangelos.com/wp-content/uploads/2024/07/Desert-in-Bloom.jpg
ORGANIZER;CN="Angelo's Pottery":MAILTO:angelos@gjangelos.com
END:VEVENT
BEGIN:VEVENT
DTSTART;TZID=UTC:20240831T173000
DTEND;TZID=UTC:20240831T200000
DTSTAMP:20260421T153329
CREATED:20240804T204131Z
LAST-MODIFIED:20240829T001658Z
UID:10000341-1725125400-1725134400@www.gjangelos.com
SUMMARY:Kids' Night Out -- Get 'em with Gumballs! -- $50 per child
DESCRIPTION:Ages 7 and up.  The older\, the more sophisticated the project result.  Give your kids (and yourselves) a night out!! Drop them off as early as 5:30\, and we will feed them pizza and lead them through an awesome art project and have assorted other activities.   Have a night out yourself and pick them up by 8:00!\n\nThis month’s project will be this gumball holder. We will be using acrylic paint\, so kids can take it home with them at the end of the evening. Please send them in paint clothes!\n\nThe deposit for this event is applied directly to the full cost of the event that evening.  This deposit is not refundable and not transferable.  Please do not buy one from Facebook or any other social media site.
URL:https://www.gjangelos.com/event/kids-night-out-get-em-with-gumballs-50-per-child/
LOCATION:Studio Event\, 2478 Patterson Road\, Grand Junction\, CO\, 81505
CATEGORIES:Kids Camps,Kids Night Out
ATTACH;FMTTYPE=image/jpeg:https://www.gjangelos.com/wp-content/uploads/2024/08/Girl-Gumball.jpg
ORGANIZER;CN="Angelo's Pottery":MAILTO:angelos@gjangelos.com
END:VEVENT
END:VCALENDAR