BEGIN:VCALENDAR
VERSION:2.0
PRODID:-//Angelo&#039;s Pottery Studio - ECPv6.2.5//NONSGML v1.0//EN
CALSCALE:GREGORIAN
METHOD:PUBLISH
X-ORIGINAL-URL:https://www.gjangelos.com
X-WR-CALDESC:Events for Angelo&#039;s Pottery Studio
REFRESH-INTERVAL;VALUE=DURATION:PT1H
X-Robots-Tag:noindex
X-PUBLISHED-TTL:PT1H
BEGIN:VTIMEZONE
TZID:UTC
BEGIN:STANDARD
TZOFFSETFROM:+0000
TZOFFSETTO:+0000
TZNAME:UTC
DTSTART:20250101T000000
END:STANDARD
END:VTIMEZONE
BEGIN:VEVENT
DTSTART;TZID=UTC:20250502T180000
DTEND;TZID=UTC:20250502T203000
DTSTAMP:20260420T015911
CREATED:20250127T003705Z
LAST-MODIFIED:20250127T003804Z
UID:10000408-1746208800-1746217800@www.gjangelos.com
SUMMARY:First Friday -- Bar is open all night long!
DESCRIPTION:We will have wine and beer available for purchase this evening.  Bring in your own pizza or sandwich. Come in with a friend\, order a beer or glass of wine and relax with your friends for the evening.  Paint what you’d like at your own pace and enjoy the company that you choose.  Limit of 2 drinks per person. Be prepared to show a physical ID — we don’t honor digital ID’s.  Let us know you are coming by RSVPing (we will save a table for your party) or you can just drop in.  Either works for us.
URL:https://www.gjangelos.com/event/first-friday-bar-is-open-all-night-long-16/2025-05-02/
LOCATION:Studio Event\, 2478 Patterson Road\, Grand Junction\, CO\, 81505
CATEGORIES:Wines and Designs
ATTACH;FMTTYPE=image/jpeg:https://www.gjangelos.com/wp-content/uploads/2024/07/Red-and-White-Single-Image.jpg
ORGANIZER;CN="Angelo's Pottery":MAILTO:angelos@gjangelos.com
END:VEVENT
BEGIN:VEVENT
DTSTART;TZID=UTC:20250503T170000
DTEND;TZID=UTC:20250503T200000
DTSTAMP:20260420T015911
CREATED:20250402T224528Z
LAST-MODIFIED:20250402T224528Z
UID:10000461-1746291600-1746302400@www.gjangelos.com
SUMMARY:Kids' Night Out: Mother's Day Gifts! $50 per child ($15 Deposit)
DESCRIPTION:Give your kids (and yourselves) a night out!! Drop them off as early as 5:00\, and we will feed them pizza\, play games\, and lead them through a project that will be the perfect Mother’s Day Surprise for mom or grandma. Have a night out yourself and pick them up by 8:00! This one is for kids ages 7 and up.\n\nThe deposit for this event is applied directly to the full cost of the event that evening.  This deposit is not refundable.  Please do not buy one from Facebook or any other social media site.
URL:https://www.gjangelos.com/event/kids-night-out-mothers-day-gifts-50-per-child-15-deposit/
LOCATION:Studio Event\, 2478 Patterson Road\, Grand Junction\, CO\, 81505
CATEGORIES:Kids Camps,Kids Night Out
ATTACH;FMTTYPE=image/png:https://www.gjangelos.com/wp-content/uploads/2025/04/Kids-Night-Out.png
ORGANIZER;CN="Angelo's Pottery":MAILTO:angelos@gjangelos.com
END:VEVENT
BEGIN:VEVENT
DTSTART;TZID=UTC:20250506T093000
DTEND;TZID=UTC:20250506T103000
DTSTAMP:20260420T015911
CREATED:20250403T035502Z
LAST-MODIFIED:20250414T222532Z
UID:10000463-1746523800-1746527400@www.gjangelos.com
SUMMARY:Story Time -- T-Rex and the Mother's Day Hug -- $27 (Ages 3-5)
DESCRIPTION:This month\, we will be reading a sweet Mother’s Day story\, and then little ones will paint terracotta flowerpots and fill them with soil and seeds for a special mom or grandma. Story time includes the painting project\, a snack and drink\, and the book!   \n*Grown-ups\, please plan on attending this event with your child. \n  \n 
URL:https://www.gjangelos.com/event/story-time-t-rex-and-the-mothers-day-hug-27-ages-3-5/
LOCATION:Studio Event\, 2478 Patterson Road\, Grand Junction\, CO\, 81505
CATEGORIES:Kids Camps
ATTACH;FMTTYPE=image/jpeg:https://www.gjangelos.com/wp-content/uploads/2025/04/61rgbMYtXPL._SX342_SY445_.jpg
ORGANIZER;CN="Angelo's Pottery":MAILTO:angelos@gjangelos.com
END:VEVENT
BEGIN:VEVENT
DTSTART;TZID=UTC:20250506T180000
DTEND;TZID=UTC:20250506T200000
DTSTAMP:20260420T015911
CREATED:20250402T042524Z
LAST-MODIFIED:20250429T024311Z
UID:10000458-1746554400-1746561600@www.gjangelos.com
SUMMARY:Taco Tuesday! -- Eat and Create at Fiesta Guadalajara -- $50 per person
DESCRIPTION:It’s Cinco de Mayo season and there’s no better place to celebrate than Fiesta Guadalajara! Come and enjoy delicious Mexican food on Taco Tuesday while you paint a piece that will help you continue the celebration at home! We will be bringing chip and dip platters\, margarita glasses\, beer steins\, taco holders\, and more! The price for the evening includes your pottery piece\, a taco bar\, and a soft drink.  The restaurant bar will be open if you want to buy a margarita or beer to add to your celebration!\n\nThe $20 deposit goes to Fiesta Guadalajara and is not refundable or transferable\, so be sure about this one.  Total cost is $50 per person for the evening. DO NOT purchase tickets from anyone but this website.
URL:https://www.gjangelos.com/event/taco-tuesday-eat-and-create-at-fiesta-guadalajara-65-per-person/
LOCATION:Fiesta Guadalajara\, 710 North Ave\,\, Grand Junction\, CO\, 81501\, United States
CATEGORIES:Off Site Events
ATTACH;FMTTYPE=image/jpeg:https://www.gjangelos.com/wp-content/uploads/2025/04/recipe_765.jpg
ORGANIZER;CN="Angelo's Pottery":MAILTO:angelos@gjangelos.com
END:VEVENT
BEGIN:VEVENT
DTSTART;TZID=UTC:20250510T093000
DTEND;TZID=UTC:20250510T113000
DTSTAMP:20260420T015911
CREATED:20250403T033552Z
LAST-MODIFIED:20250504T041857Z
UID:10000462-1746869400-1746876600@www.gjangelos.com
SUMMARY:Mini and Me Mug Party: $50 (one ticket per pair)
DESCRIPTION:Join us for a special morning for kids and their grown-ups! Each pair will paint a matching set of mugs—a small mug for your mini\, and a larger one for you. Choose your own colors and designs or go matchy-matchy—it’s up to you! \nThis event is perfect for parents\, grandparents\, or any special grown-up looking to make memories with their favorite little artist.  The event includes one child=sized mug and one adult-sized mug per pair and a selection of pastries\, fruits\, and beverages for a light breakfast. \nSign up for ONE ticket per pair of painters. A $15 deposit will be collected now\, and the remining balance will be collected on the morning of the event. \nThese tickets are not transferable or refundable. Your fee can be applied to a different class if you cannot attend this one\, or gifted to a friend if you let us know that you would like to do that in advance.  Our number is (970) 243-0886.  Do not purchase tickets on your social media sites.
URL:https://www.gjangelos.com/event/mini-and-me-mug-party-50-one-ticket-per-pair/
LOCATION:Studio Event\, 2478 Patterson Road\, Grand Junction\, CO\, 81505
ATTACH;FMTTYPE=image/jpeg:https://www.gjangelos.com/wp-content/uploads/2025/04/26187a27-d801-4d8e-9304-d9b386dbf278.jpg
ORGANIZER;CN="Angelo's Pottery":MAILTO:angelos@gjangelos.com
END:VEVENT
BEGIN:VEVENT
DTSTART;TZID=UTC:20250512T180000
DTEND;TZID=UTC:20250512T200000
DTSTAMP:20260420T015911
CREATED:20250323T033959Z
LAST-MODIFIED:20250505T035152Z
UID:10000456-1747072800-1747080000@www.gjangelos.com
SUMMARY:Pottery and Frozen Ponds -- Stoneware Glazing @ Base Camp Provisions -- $15 Event Fee
DESCRIPTION:We are taking one of our most popular stoneware classes on the road to Base Camp Provisions! Meet us out in Fruita and choose your stoneware piece. We will have a variety of color options\, including the iconic blue. You can eat and drink while we lead you through this easy and stunning technique on your chosen piece!  We will buy you your first drink to get the fun started! \nYour Event Fee does not apply to your purchase that evening.  You can choose from plates\, bowls\, mugs\, platters\, pizza stones and more. \nThese tickets are not transferable. The event fee is not refundable and does not apply to the piece that evening.  Your fee can be applied to a different class if you cannot attend this one\, or gifted to a friend if you let us know that you would like to do that in advance.  Our number is (970) 243-0886.  Do not purchase tickets on your social media sites. \n \n 
URL:https://www.gjangelos.com/event/pottery-and-frozen-ponds-stoneware-glazing-base-camp-provisions-15-event-fee/
LOCATION:Base Camp: Provisions\, 155 N Mulberry St\, Fruita\, 81521\, United States
CATEGORIES:Classes,Wines and Designs
ATTACH;FMTTYPE=image/jpeg:https://www.gjangelos.com/wp-content/uploads/2024/11/Resized_20241114_122030-1.jpg
ORGANIZER;CN="Angelo's Pottery":MAILTO:angelos@gjangelos.com
END:VEVENT
BEGIN:VEVENT
DTSTART;TZID=UTC:20250518T110000
DTEND;TZID=UTC:20250518T130000
DTSTAMP:20260420T015911
CREATED:20250402T215604Z
LAST-MODIFIED:20250517T034025Z
UID:10000459-1747566000-1747573200@www.gjangelos.com
SUMMARY:Afternoon Tea and Paint: First Seating ($20 Event Fee)
DESCRIPTION:We are bringing back our Mother’s Day Tea\, and it’s going to be better than ever before (and also\, no longer on Mother’s Day!) Join us for an indulgent artistic experience! Your event fee includes a plate of delicious homemade treats from the British Bakery Co. and unlimited refills of your choice of tea\, coffee\, or cocoa. This is a great event for girlfriends\, couples\, families\, and moms who just need an afternoon out! Your choice of pottery is not included in the event fee\, but we have hundreds of items in all different price ranges to choose from. \nThese tickets are not transferable or refundable. Your fee can be applied to a different class if you cannot attend this one\, or gifted to a friend if you let us know that you would like to do that in advance.  Our number is (970) 243-0886.  Do not purchase tickets on your social media sites.
URL:https://www.gjangelos.com/event/afternoon-tea-and-paint-first-seating-20-event-fee/
LOCATION:Studio Event\, 2478 Patterson Road\, Grand Junction\, CO\, 81505
ATTACH;FMTTYPE=image/png:https://www.gjangelos.com/wp-content/uploads/2025/04/Untitled-design-6.png
ORGANIZER;CN="Angelo's Pottery":MAILTO:angelos@gjangelos.com
END:VEVENT
BEGIN:VEVENT
DTSTART;TZID=UTC:20250518T140000
DTEND;TZID=UTC:20250518T160000
DTSTAMP:20260420T015911
CREATED:20250402T220300Z
LAST-MODIFIED:20250402T220300Z
UID:10000460-1747576800-1747584000@www.gjangelos.com
SUMMARY:Afternoon Tea and Paint: Second Seating ($20 Event Fee)
DESCRIPTION:We are bringing back our Mother’s Day Tea\, and it’s going to be better than ever before (and also\, no longer on Mother’s Day!) Join us for an indulgent artistic experience! Your event fee includes a plate of delicious homemade treats from the British Bakery Co. and unlimited refills of your choice of tea\, coffee\, or cocoa. This is a great event for girlfriends\, couples\, families\, and moms who just need an afternoon out! Your choice of pottery is not included in the event fee\, but we have hundreds of items in all different price ranges to choose from. \nThese tickets are not transferable or refundable. Your fee can be applied to a different class if you cannot attend this one\, or gifted to a friend if you let us know that you would like to do that in advance.  Our number is (970) 243-0886.  Do not purchase tickets on your social media sites.
URL:https://www.gjangelos.com/event/afternoon-tea-and-paint-second-seating-20-event-fee/
LOCATION:Studio Event\, 2478 Patterson Road\, Grand Junction\, CO\, 81505
ATTACH;FMTTYPE=image/png:https://www.gjangelos.com/wp-content/uploads/2025/04/Untitled-design-6.png
ORGANIZER;CN="Angelo's Pottery":MAILTO:angelos@gjangelos.com
END:VEVENT
BEGIN:VEVENT
DTSTART;TZID=UTC:20250522T180000
DTEND;TZID=UTC:20250522T200000
DTSTAMP:20260420T015911
CREATED:20250127T002520Z
LAST-MODIFIED:20250517T033539Z
UID:10000403-1747936800-1747944000@www.gjangelos.com
SUMMARY:May Flowers -- Ladies Night Out! -- Wines and Designs -- $25 Event Fee
DESCRIPTION:We are repeating this one. \nWomen need women.  Let’s get together and create and chat and drink and laugh and do it again.   Many people wanted in and didn’t get to do it.  Your first drink\, either alcohol or soda or water is on us.  Our silk screens and projects will be centered around our theme\, but you choose your piece. This month\, everyone will produce a resin\, floral pendant as part of the event price.  So many to choose from and so many flowers to go in them!  We haven’t done this before and it is a LOT of fun.  Let’s have some fun — and then some.  Bring a friend and make some friends.  If you choose to paint some bisque this evening\, you get 15% off. \nThis fee is not refundable or transferable.  * Do not buy tickets from people on the internet.
URL:https://www.gjangelos.com/event/may-flowers-ladies-night-out-wines-and-designs-25-event-fee/
LOCATION:Studio Event\, 2478 Patterson Road\, Grand Junction\, CO\, 81505
CATEGORIES:Ladies Night Out,Wines and Designs
ATTACH;FMTTYPE=image/jpeg:https://www.gjangelos.com/wp-content/uploads/2024/06/Dried-flowers.jpg
ORGANIZER;CN="Angelo's Pottery":MAILTO:angelos@gjangelos.com
END:VEVENT
END:VCALENDAR