BEGIN:VCALENDAR
VERSION:2.0
PRODID:-//Angelo&#039;s Pottery Studio - ECPv6.2.5//NONSGML v1.0//EN
CALSCALE:GREGORIAN
METHOD:PUBLISH
X-WR-CALNAME:Angelo&#039;s Pottery Studio
X-ORIGINAL-URL:https://www.gjangelos.com
X-WR-CALDESC:Events for Angelo&#039;s Pottery Studio
REFRESH-INTERVAL;VALUE=DURATION:PT1H
X-Robots-Tag:noindex
X-PUBLISHED-TTL:PT1H
BEGIN:VTIMEZONE
TZID:UTC
BEGIN:STANDARD
TZOFFSETFROM:+0000
TZOFFSETTO:+0000
TZNAME:UTC
DTSTART:20260101T000000
END:STANDARD
END:VTIMEZONE
BEGIN:VEVENT
DTSTART;TZID=UTC:20260618T130000
DTEND;TZID=UTC:20260618T150000
DTSTAMP:20260423T203201
CREATED:20260422T040700Z
LAST-MODIFIED:20260423T045800Z
UID:10000583-1781787600-1781794800@www.gjangelos.com
SUMMARY:Summer Camp Grades 6-9: Making Faces Art Camp $50 ($15 deposit)
DESCRIPTION:Our Art Camp sessions for older kids are designed to build skills in a hands-on\, engaging environment. With extended class time\, campers will have the opportunity to experiment\, explore new techniques\, and develop their artistic abilities with confidence. \nThis week we are focusing on the art of portraiture! Students will send in some portraits that they want to work on in class\, and we will recreate those portraits using screen printing and scratch art. \nA snack and a drink are included in the camp! \nIf you have difficulty booking this camp\, please contact the studio directly. Do not buy tickets from strangers on the internet. Beware of internet scams. \nWe do have a minimum number of sign ups needed to be able to hold each of our camps. If the minimum number is not reached for this camp\, we will notify you and ask if you are interested in moving your registration to another camp. If not\, we will refund your money!
URL:https://www.gjangelos.com/event/summer-camp-grades-6-9-making-faces-art-camp-50-15-deposit/
LOCATION:Studio Event\, 2478 Patterson Road\, Grand Junction\, CO\, 81505
CATEGORIES:Kids Camps
ATTACH;FMTTYPE=image/jpeg:https://www.gjangelos.com/wp-content/uploads/2026/01/IMG_7844.jpg
ORGANIZER;CN="Angelo's Pottery":MAILTO:angelos@gjangelos.com
END:VEVENT
END:VCALENDAR