BEGIN:VCALENDAR
VERSION:2.0
PRODID:-//Angelo&#039;s Pottery Studio - ECPv6.2.5//NONSGML v1.0//EN
CALSCALE:GREGORIAN
METHOD:PUBLISH
X-WR-CALNAME:Angelo&#039;s Pottery Studio
X-ORIGINAL-URL:https://www.gjangelos.com
X-WR-CALDESC:Events for Angelo&#039;s Pottery Studio
REFRESH-INTERVAL;VALUE=DURATION:PT1H
X-Robots-Tag:noindex
X-PUBLISHED-TTL:PT1H
BEGIN:VTIMEZONE
TZID:UTC
BEGIN:STANDARD
TZOFFSETFROM:+0000
TZOFFSETTO:+0000
TZNAME:UTC
DTSTART:20220101T000000
END:STANDARD
END:VTIMEZONE
BEGIN:VEVENT
DTSTART;TZID=UTC:20221004T180000
DTEND;TZID=UTC:20221004T200000
DTSTAMP:20260422T011753
CREATED:20220831T002449Z
LAST-MODIFIED:20220831T002449Z
UID:10000209-1664906400-1664913600@www.gjangelos.com
SUMMARY:Drink Up Witches!
DESCRIPTION:Join us for Halloween fun with Feisty Fiends!  We will have silk screens of your favorite Halloween characters: slashers\, witches\, nightmares and more.   We will bring mugs\, plates\, platters — a huge assortments of choices.  Reserve your spot for $10.  Pay for your pottery that evening.  The event comes with one complimentary drink and as much coaching\, and artistic assistance as we can offer.  Bring your friends or join a group that has the space.  Get your items back in time for Halloween.
URL:https://www.gjangelos.com/event/drink-up-witches/
LOCATION:Feisty Pint\, 359 Colorado Ave\, Grand Junction\, CO\, 81501
CATEGORIES:Off Site Events
ATTACH;FMTTYPE=image/png:https://www.gjangelos.com/wp-content/uploads/2022/08/Feisty-Pint-Hocus-Pocus.png
ORGANIZER;CN="Angelo's Pottery":MAILTO:angelos@gjangelos.com
END:VEVENT
END:VCALENDAR