BEGIN:VCALENDAR
VERSION:2.0
PRODID:-//Angelo&#039;s Pottery Studio - ECPv6.2.5//NONSGML v1.0//EN
CALSCALE:GREGORIAN
METHOD:PUBLISH
X-WR-CALNAME:Angelo&#039;s Pottery Studio
X-ORIGINAL-URL:https://www.gjangelos.com
X-WR-CALDESC:Events for Angelo&#039;s Pottery Studio
REFRESH-INTERVAL;VALUE=DURATION:PT1H
X-Robots-Tag:noindex
X-PUBLISHED-TTL:PT1H
BEGIN:VTIMEZONE
TZID:UTC
BEGIN:STANDARD
TZOFFSETFROM:+0000
TZOFFSETTO:+0000
TZNAME:UTC
DTSTART:20240101T000000
END:STANDARD
END:VTIMEZONE
BEGIN:VEVENT
DTSTART;TZID=UTC:20240906T180000
DTEND;TZID=UTC:20240906T203000
DTSTAMP:20260422T072503
CREATED:20240710T031806Z
LAST-MODIFIED:20240918T210624Z
UID:10000332-1725645600-1725654600@www.gjangelos.com
SUMMARY:First Friday -- Bar is open all night long!
DESCRIPTION:We will have wine and beer available for purchase this evening.  Bring in your own pizza or sandwich. Come in with a friend\, order a beer or glass of wine and relax with your friends for the evening.  Paint what you’d like at your own pace and enjoy the company that you choose.  Limit of 2 drinks per person. Be prepared to show a physical ID — we don’t honor digital ID’s.  Let us know you are coming by RSVPing (we will save a table for your party) or you can just drop in.  Either works for us.
URL:https://www.gjangelos.com/event/first-friday-bar-is-open-all-night-long-9/
LOCATION:Studio Event\, 2478 Patterson Road\, Grand Junction\, CO\, 81505
CATEGORIES:Wines and Designs
ATTACH;FMTTYPE=image/jpeg:https://www.gjangelos.com/wp-content/uploads/2024/07/Red-and-White-Single-Image.jpg
ORGANIZER;CN="Angelo's Pottery":MAILTO:angelos@gjangelos.com
END:VEVENT
BEGIN:VEVENT
DTSTART;TZID=UTC:20240907T183000
DTEND;TZID=UTC:20240907T203000
DTSTAMP:20260422T072503
CREATED:20240710T034833Z
LAST-MODIFIED:20240828T174357Z
UID:10000335-1725733800-1725741000@www.gjangelos.com
SUMMARY:Eye See You -- Wines and Designs -- (Adults' Night Out) -- $45
DESCRIPTION:This little guy is peering at us as we look back at him.  This glowing canvas will delight everyone who sees it at your home.  Choose to put this on a canvas or a Jute Tote carry with you.   Great for a date with your teenaged son or daughter and\, of course\, your best friend.  This is a level 2 canvas.  Anyone can do it!  Come in and relax. \nYour first beverage of the evening is included with your booking\, and another can be purchased at the event! We are excited to offer a selection of alcoholic beverages! Choose from a variety of local wines\, ice cold beers! We have something for everyone. If you would rather skip the liquor\, we also have sodas\, coffee\, and water available for you!  A snack is also included in your reservation fee\, but feel free to bring in your favorite food to munch on while you paint!  Join us for a fun evening of painting. \nDeposit $10 to reserve your spot — applied to the event.  Tickets are not transferable.  Deposit is not refundable but can be applied to another event. \n  \n 
URL:https://www.gjangelos.com/event/eye-see-you-wines-and-designs-adults-night-out-45/
LOCATION:Studio Event\, 2478 Patterson Road\, Grand Junction\, CO\, 81505
CATEGORIES:Classes,This or That Date Night
ATTACH;FMTTYPE=image/jpeg:https://www.gjangelos.com/wp-content/uploads/2024/07/Eye-See-You-Reference-Image.jpg
ORGANIZER;CN="Angelo's Pottery":MAILTO:angelos@gjangelos.com
END:VEVENT
BEGIN:VEVENT
DTSTART;TZID=UTC:20240913T183000
DTEND;TZID=UTC:20240913T203000
DTSTAMP:20260422T072503
CREATED:20240710T033334Z
LAST-MODIFIED:20240821T232056Z
UID:10000334-1726252200-1726259400@www.gjangelos.com
SUMMARY:Pottery and Peacocks  -- Stoneware Bowls -- Wines and Designs --$10 Event Fee
DESCRIPTION:Get this beautiful design in any color combination that suits your decor and taste.  Sometimes they come out more beautiful than you thought possible.  Bring a friend and enjoy an evening of creativity and conversation with our artist.  You choose you bowl the night of the event — your event fee does not apply to the piece you choose.  This event includes your first drink: a glass of wine\, a can of beer\, a soda\, cup of coffee\, or bottle of water.  A light snack is provided as well. \nThe event fee is non-refundable.  It can be applied to another event. These tickets are not transferable\, so do not buy them from scammers off of the internet.
URL:https://www.gjangelos.com/event/pottery-and-peacocks-stoneware-bowls-wines-and-designs-10-event-fee-5/
LOCATION:Studio Event\, 2478 Patterson Road\, Grand Junction\, CO\, 81505
CATEGORIES:Classes,Wines and Designs
ATTACH;FMTTYPE=image/jpeg:https://www.gjangelos.com/wp-content/uploads/2023/11/FB_IMG_1694898261262.jpg
ORGANIZER;CN="Angelo's Pottery":MAILTO:angelos@gjangelos.com
END:VEVENT
BEGIN:VEVENT
DTSTART;TZID=UTC:20240917T093000
DTEND;TZID=UTC:20240917T104500
DTSTAMP:20260422T072503
CREATED:20240710T032735Z
LAST-MODIFIED:20240816T201616Z
UID:10000333-1726565400-1726569900@www.gjangelos.com
SUMMARY:Toddler Time -- Alan's Big Scary Teeth -- $25 (Ages 3-5)
DESCRIPTION:This month we’re painting crocodiles! Little ones will paint their own crocodiles using brushes and sponges while listening to the story of what happens when poor Alan the crocodile loses his teeth! Snack and story time are included\, and you get to keep the book! Parents\, please plan on staying and experiencing the fun with your little one.  \nAs always\, our story times come with snacks and drinks for both parent and child. \n**All tickets are non-transferable. \n  \n 
URL:https://www.gjangelos.com/event/toddler-time-alans-big-scary-teeth-24-ages-3-5/
LOCATION:Studio Event\, 2478 Patterson Road\, Grand Junction\, CO\, 81505
CATEGORIES:Kids Camps
ATTACH;FMTTYPE=image/jpeg:https://www.gjangelos.com/wp-content/uploads/2024/07/Alans-Big-Scary-Teeth.jpg
ORGANIZER;CN="Angelo's Pottery":MAILTO:angelos@gjangelos.com
END:VEVENT
BEGIN:VEVENT
DTSTART;TZID=UTC:20240928T183000
DTEND;TZID=UTC:20240928T203000
DTSTAMP:20260422T072503
CREATED:20240711T202550Z
LAST-MODIFIED:20240920T230714Z
UID:10000336-1727548200-1727555400@www.gjangelos.com
SUMMARY:Our Own Pumpkin Patch and Those Who Haunt It -- Wines and Designs -- $35
DESCRIPTION:Let’s play with clay!  The entire family can contribute to your centerpiece pumpkin patch.   Bring your loved one and make more of these delightful pumpkins.  Your other family members can create one of the ghosts.  Kill two holidays with one event!  Create them tonight and pick a convenient time to glaze them in before fall.  Then you can use them to decorate your Halloween events and your Thanksgiving table.   Enjoy great conversation and create a memory worth savoring every year. Bring your loved ones and create an entire patch of pumpkins or a whole gaggle or ghosts.  One pumpkin or ghost comes with the class\, but additional pieces can be made for an additional charge. \nWe are excited to offer a selection of beverages!  Your first beverage of the evening is included with your booking\, and another can be purchased at the event!  Choose from a variety of local wines\, ice cold beers\, ciders\, and seltzers! We have something for everyone. If you would rather skip the liquor (or if you are under age)\, we also have sodas\, coffee\, and water available for you! A snack is also included in your reservation fee\, but feel free to bring in your favorite food to munch on while you paint! \nAll tickets are non-transferable.  Your $10 deposit applies to your experience this evening. \n \n 
URL:https://www.gjangelos.com/event/our-own-pumpkin-patch-wines-and-designs-35-2/
LOCATION:Studio Event\, 2478 Patterson Road\, Grand Junction\, CO\, 81505
CATEGORIES:Classes,Wines and Designs
ATTACH;FMTTYPE=image/jpeg:https://www.gjangelos.com/wp-content/uploads/2024/07/Ghost-and-Pumpkins.jpg
ORGANIZER;CN="Angelo's Pottery":MAILTO:angelos@gjangelos.com
END:VEVENT
END:VCALENDAR