BEGIN:VCALENDAR
VERSION:2.0
PRODID:-//Angelo&#039;s Pottery Studio - ECPv6.2.5//NONSGML v1.0//EN
CALSCALE:GREGORIAN
METHOD:PUBLISH
X-WR-CALNAME:Angelo&#039;s Pottery Studio
X-ORIGINAL-URL:https://www.gjangelos.com
X-WR-CALDESC:Events for Angelo&#039;s Pottery Studio
REFRESH-INTERVAL;VALUE=DURATION:PT1H
X-Robots-Tag:noindex
X-PUBLISHED-TTL:PT1H
BEGIN:VTIMEZONE
TZID:UTC
BEGIN:STANDARD
TZOFFSETFROM:+0000
TZOFFSETTO:+0000
TZNAME:UTC
DTSTART:20250101T000000
END:STANDARD
END:VTIMEZONE
BEGIN:VEVENT
DTSTART;TZID=UTC:20250201T090000
DTEND;TZID=UTC:20250201T110000
DTSTAMP:20260421T151327
CREATED:20241107T150536Z
LAST-MODIFIED:20250119T154807Z
UID:10000375-1738400400-1738407600@www.gjangelos.com
SUMMARY:"Luke's Coffee House" at Perdita's -- $30
DESCRIPTION:Come to our celebration of the Gilmore Girls\, a themed paint event at Perdita’s Coffee! There’s no better way to start your morning than with a great cup of coffee or tea in one hand and a paintbrush in another. We will bring a large variety of mugs and fun pottery pieces as well as some special Gilmore Girls silkscreens created just for this event! You bring the Laurelais\, Rorys\, and Lukes in your life and settle in for a fun morning. Your first drink is on us!  The entire experience will be $30 per painter. \nThe payment is not refundable but may be moved to a different event should you not be able to attend.  Scammers work Facebook\, so please do not buy tickets from someone else offering them to you should this event sell out.  Tickets can only be purchased through us.
URL:https://www.gjangelos.com/event/lukes-coffee-house-at-perditas-30/
LOCATION:CO
CATEGORIES:Off Site Events
ATTACH;FMTTYPE=image/jpeg:https://www.gjangelos.com/wp-content/uploads/2024/11/Lukes-Mug.jpg
ORGANIZER;CN="Angelo's Pottery":MAILTO:angelos@gjangelos.com
END:VEVENT
BEGIN:VEVENT
DTSTART;TZID=UTC:20250207T180000
DTEND;TZID=UTC:20250207T203000
DTSTAMP:20260421T151327
CREATED:20241103T224923Z
LAST-MODIFIED:20241103T224923Z
UID:10000384-1738951200-1738960200@www.gjangelos.com
SUMMARY:First Friday -- Bar is open all night long!
DESCRIPTION:We will have wine and beer available for purchase this evening.  Bring in your own pizza or sandwich. Come in with a friend\, order a beer or glass of wine and relax with your friends for the evening.  Paint what you’d like at your own pace and enjoy the company that you choose.  Limit of 2 drinks per person. Be prepared to show a physical ID — we don’t honor digital ID’s.  Let us know you are coming by RSVPing (we will save a table for your party) or you can just drop in.  Either works for us.
URL:https://www.gjangelos.com/event/first-friday-bar-is-open-all-night-long-14/
LOCATION:Studio Event\, 2478 Patterson Road\, Grand Junction\, CO\, 81505
CATEGORIES:Wines and Designs
ATTACH;FMTTYPE=image/jpeg:https://www.gjangelos.com/wp-content/uploads/2024/07/Red-and-White-Single-Image.jpg
ORGANIZER;CN="Angelo's Pottery":MAILTO:angelos@gjangelos.com
END:VEVENT
BEGIN:VEVENT
DTSTART;TZID=UTC:20250208T180000
DTEND;TZID=UTC:20250208T210000
DTSTAMP:20260421T151327
CREATED:20241212T023100Z
LAST-MODIFIED:20250205T020333Z
UID:10000395-1739037600-1739048400@www.gjangelos.com
SUMMARY:Two to Tango -- Wines and Designs -- $20 Deposit (per couple)
DESCRIPTION:$80 per couple.  One ticket per couple.  Bring your love to paint this wonderful canvas set together.  This can be a romantic couple or a mother and daughter\, father and son\, best friends.  Form the perfect pair that reflects your relationship and put them side by side.  This is a level 3 canvas set which means that anyone can do it\, but Angelo’s artists will provide additional help with a canvas that has been prepared to insure your success. \nWe will cover the first drink whether it is wine\, beer\, soda\, coffee\, or just water.   We will provide a small Valentine snack as well.  Your deposit will be applied to your ticket that evening. \nYour deposit is not refundable or transferable.  You must purchase tickets directly from us.  DO NOT buy from someone on the internet.  Beware of scammers.
URL:https://www.gjangelos.com/event/two-to-tango-wines-and-designs-20-deposit-per-couple/
LOCATION:Studio Event\, 2478 Patterson Road\, Grand Junction\, CO\, 81505
CATEGORIES:Classes,Studio Celebrations,Wines and Designs
ATTACH;FMTTYPE=image/jpeg:https://www.gjangelos.com/wp-content/uploads/2024/12/Two-to-Tango-Flamingos-image.jpg
ORGANIZER;CN="Angelo's Pottery":MAILTO:angelos@gjangelos.com
END:VEVENT
BEGIN:VEVENT
DTSTART;TZID=UTC:20250211T093000
DTEND;TZID=UTC:20250211T104500
DTSTAMP:20260421T151327
CREATED:20250107T223719Z
LAST-MODIFIED:20250114T205709Z
UID:10000397-1739266200-1739270700@www.gjangelos.com
SUMMARY:Story Time -- Love from Sesame Street -- $27 (Ages 3-5)
DESCRIPTION:This month\, Toddlers and Preschoolers will create their own Sesame Street character mug! They can choose their character\, and we will be using stickers to make the facial features easy to paint. Story time includes the painting project\, a snack and drink\, and the book! Grow ups\, please plan on staying and experiencing the fun with your little one.  \n**All tickets are non-transferable. \n  \n  \n 
URL:https://www.gjangelos.com/event/story-time-love-from-sesame-street-27-ages-3-5/
LOCATION:Studio Event\, 2478 Patterson Road\, Grand Junction\, CO\, 81505
CATEGORIES:Kids Camps
ATTACH;FMTTYPE=image/jpeg:https://www.gjangelos.com/wp-content/uploads/2025/01/f7e89258-a740-4f28-9106-19fa901ef1b6.jpg
ORGANIZER;CN="Angelo's Pottery":MAILTO:angelos@gjangelos.com
END:VEVENT
BEGIN:VEVENT
DTSTART;TZID=UTC:20250213T183000
DTEND;TZID=UTC:20250213T210000
DTSTAMP:20260421T151327
CREATED:20241103T231107Z
LAST-MODIFIED:20250101T024041Z
UID:10000379-1739471400-1739480400@www.gjangelos.com
SUMMARY:Treat Yo' Self -- A Galentines Event -- $15 event fee
DESCRIPTION:This will be an evening of girl fun and bonding. Grab your girlfriends this Valentine’s week and Treat Yo’ Selves to a night of painting and pampering!  We will have a great selection of pottery available\, as well as some Parks and Recs silkscreens if you would like to create a tribute to the founder of Galentine’s Day. A henna tattoo artist will be providing free henna tattoos to participants who want one\, and we will have some deliciously indulgent treats available. Wine and beer will be available for purchase. Your $15 event fee will NOT apply to your purchase that evening.  The reservation fee is not refundable or transferable.  DO NOT buy tickets on the in5ernet from anyone but the studio.  Scammers are everywhere!
URL:https://www.gjangelos.com/event/treat-yo-self-a-galentines-event-12-event-fee-2/
LOCATION:Studio Event\, 2478 Patterson Road\, Grand Junction\, CO\, 81505
CATEGORIES:Studio Celebrations,Wines and Designs
ATTACH;FMTTYPE=image/png:https://www.gjangelos.com/wp-content/uploads/2024/11/Facebook-Event-Covers-55.png
ORGANIZER;CN="Angelo's Pottery":MAILTO:angelos@gjangelos.com
END:VEVENT
BEGIN:VEVENT
DTSTART;TZID=UTC:20250215T180000
DTEND;TZID=UTC:20250215T210000
DTSTAMP:20260421T151327
CREATED:20241103T231033Z
LAST-MODIFIED:20250203T034851Z
UID:10000380-1739642400-1739653200@www.gjangelos.com
SUMMARY:Koi Couple -- Wines and Designs -- $20 Deposit (per couple)
DESCRIPTION:$80 per couple.  One ticket per couple.  Bring your love to paint this wonderful canvas set together.  This can be a romantic couple or a mother and daughter\, father and son\, best friends.  Form the perfect Yin Yang and put them side by side.  This program sold out last year\, much to everyone’s dismay.  We are repeating it due to popular demand.   This is a level 3 canvas set which means that anyone can do it\, but Angelo’s artists will provide additional help with a canvas that has been prepared to insure your success. \nWe will cover the first drink whether it is wine\, beer\, soda\, coffee\, or just water.   We will provide a small Valentine snack as well.  Your deposit will be applied to your ticket that evening. \nYour deposit is not refundable or transferable.  You must purchase tickets directly from us.  DO NOT buy from someone on the internet.  Beware of scammers.
URL:https://www.gjangelos.com/event/koi-couple-wines-and-designs-20-deposit-per-couple/
LOCATION:Studio Event\, 2478 Patterson Road\, Grand Junction\, CO\, 81505
CATEGORIES:Classes,Studio Celebrations,Wines and Designs
ATTACH;FMTTYPE=image/jpeg:https://www.gjangelos.com/wp-content/uploads/2024/01/Koi-Couple-High-Res-Image-e1704165676494.jpg
ORGANIZER;CN="Angelo's Pottery":MAILTO:angelos@gjangelos.com
END:VEVENT
END:VCALENDAR