BEGIN:VCALENDAR
VERSION:2.0
PRODID:-//Angelo&#039;s Pottery Studio - ECPv6.2.5//NONSGML v1.0//EN
CALSCALE:GREGORIAN
METHOD:PUBLISH
X-ORIGINAL-URL:https://www.gjangelos.com
X-WR-CALDESC:Events for Angelo&#039;s Pottery Studio
REFRESH-INTERVAL;VALUE=DURATION:PT1H
X-Robots-Tag:noindex
X-PUBLISHED-TTL:PT1H
BEGIN:VTIMEZONE
TZID:UTC
BEGIN:STANDARD
TZOFFSETFROM:+0000
TZOFFSETTO:+0000
TZNAME:UTC
DTSTART:20260101T000000
END:STANDARD
END:VTIMEZONE
BEGIN:VEVENT
DTSTART;TZID=UTC:20260513T180000
DTEND;TZID=UTC:20260513T200000
DTSTAMP:20260424T004231
CREATED:20260420T032647Z
LAST-MODIFIED:20260420T033020Z
UID:10000574-1778695200-1778702400@www.gjangelos.com
SUMMARY:Starry Night Stoneware Mugs @ Base Camp Provisions: $55 ($15 deposit)
DESCRIPTION:We have a fantastic new stoneware glazing technique\, and we can’t wait to share it with you! Come create your own version of Starry Night on your choice of stoneware mug.  This technique is simple and easy to recreate\, and stoneware is microwave safe\, oven safe\, and dishwasher safe. Your first drink is included in the class! Feel free to order some of the delicious food at Base Camp to enjoy while you paint. \nThe total cost for the event is $55\, with a $15 deposit due upon your reservation.  \nThese tickets are not refundable. Please do not buy tickets from strangers on the internet.
URL:https://www.gjangelos.com/event/starry-night-stoneware-mugs-55-15-deposit/
LOCATION:Base Camp: Provisions\, 155 N Mulberry St\, Fruita\, 81521\, United States
CATEGORIES:Off Site Events
ATTACH;FMTTYPE=image/jpeg:https://www.gjangelos.com/wp-content/uploads/2026/04/Starry-Night-2.jpeg
ORGANIZER;CN="Angelo's Pottery":MAILTO:angelos@gjangelos.com
END:VEVENT
END:VCALENDAR